BEGIN:VCALENDAR
VERSION:2.0
PRODID:-//ChamberMaster//Event Calendar 2.0//EN
METHOD:PUBLISH
X-PUBLISHED-TTL:P3D
REFRESH-INTERVAL:P3D
CALSCALE:GREGORIAN
BEGIN:VEVENT
DTSTART:20191102T160000Z
DTEND:20191103T230000Z
X-MICROSOFT-CDO-ALLDAYEVENT:FALSE
SUMMARY:Harbor Blooms Christmas Open House
DESCRIPTION:Join Harbor Blooms us their our annual Christmas open house Saturday November 2nd from 9am - 6pm and Sunday November 3rd from 11am - 3pm as Harbor Blooms transforms into a Christmas wonderland full of Christmas decor and gifts! There will be giveaways to the first 50 customers\, door prizes drawings\, food and refreshments.
X-ALT-DESC;FMTTYPE=text/html:<span style="font-size:14px\;"><span style="font-family:arial\;"><span style="box-sizing: border-box\; -webkit-font-smoothing: subpixel-antialiased\; margin: 0px\; padding: 0px\; border: 0px\; outline: 0px\; vertical-align: baseline\; caret-color: rgb(29\, 33\, 41)\; color: rgb(29\, 33\, 41)\; white-space: pre-wrap\;">Join Harbor Blooms us their our annual Christmas open house Saturday November 2nd from 9am - 6pm and Sunday November 3rd from 11am - 3pm as Harbor Blooms transforms into a Christmas wonderland full of Christmas decor and gifts! There will be giveaways to the first 50 customers\, door prizes drawings\, food and refreshments. </span></span></span>
LOCATION:118 E Heron St Aberdeen\, Washington 98520
UID:e.26.12242
SEQUENCE:3
DTSTAMP:20260424T042200Z
URL:https://chamber.graysharbor.org/events/details/harbor-blooms-christmas-open-house-12242
END:VEVENT

END:VCALENDAR
