BEGIN:VCALENDAR
VERSION:2.0
PRODID:-//ChamberMaster//Event Calendar 2.0//EN
METHOD:PUBLISH
X-PUBLISHED-TTL:P3D
REFRESH-INTERVAL:P3D
CALSCALE:GREGORIAN
BEGIN:VEVENT
DTSTART:20171104T160000Z
DTEND:20171105T000000Z
X-MICROSOFT-CDO-ALLDAYEVENT:FALSE
SUMMARY:Harbor Blooms Christmas Open House
DESCRIPTION:Door prizes for the first 25 customers \, gift with purchase while supply lasts \, and drawings every 2 hours. Refreshments and snacks. Come join us to celebrate the beginning of the Holiday season and to shop for your Holiday decor and gifts! Please share with family and friends\, the more the merrier!
X-ALT-DESC;FMTTYPE=text/html:<span style="color: rgb(75\, 79\, 86)\; font-family: Helvetica\, Arial\, sans-serif\; font-size: 14px\; background-color: rgb(255\, 255\, 255)\;">Door prizes for the first 25 customers \, gift with purchase while supply lasts \, and drawings every 2 hours. Refreshments and snacks. Come join us to celebrate the beginning of the Holiday season and to shop for your Holiday decor and gifts! Please share with family and friends\, the more the merrier!</span>
LOCATION:Harbor Blooms 118 East Heron St. Aberdeen\, WA
UID:e.26.8311
SEQUENCE:3
DTSTAMP:20260425T181419Z
URL:https://chamber.graysharbor.org/events/details/harbor-blooms-christmas-open-house-8311
END:VEVENT

END:VCALENDAR
