BEGIN:VCALENDAR
VERSION:2.0
PRODID:-//ChamberMaster//Event Calendar 2.0//EN
METHOD:PUBLISH
X-PUBLISHED-TTL:P3D
REFRESH-INTERVAL:P3D
CALSCALE:GREGORIAN
BEGIN:VEVENT
DTSTART:20190928T010000Z
DTEND:20190928T020000Z
X-MICROSOFT-CDO-ALLDAYEVENT:FALSE
SUMMARY:Harbor Blooms Kokedama DIY Class at Junk Queen Pinterest Party
DESCRIPTION:Harbor Blooms will be having a class on the art of Kokedama (moss ball) plant at the Junk Queens Fall Pinterest Party in Elma. The class will take place from 6pm - 7pm.
X-ALT-DESC;FMTTYPE=text/html:H<span style="display: inline !important\; float: none\; background-color: transparent\; color: rgb(29\, 33\, 41)\; font-family: Helvetica\,Arial\,sans-serif\; font-size: 14px\; font-style: normal\; font-variant: normal\; font-weight: 400\; letter-spacing: normal\; orphans: 2\; text-align: left\; text-decoration: none\; text-indent: 0px\; text-transform: none\; -webkit-text-stroke-width: 0px\; white-space: pre-wrap\; word-spacing: 0px\;">arbor Blooms will be having a class on the art of Kokedama (moss ball) plant at the Junk Queens Fall Pinterest Party in Elma.&nbsp\;The class will take place from 6pm - 7pm.</span>
LOCATION:Grays Harbor County Fairgrounds and Event Center 43 Elma McCleary Rd\, Elma\, Washington 98541
UID:e.26.12175
SEQUENCE:3
DTSTAMP:20260424T074417Z
URL:https://chamber.graysharbor.org/events/details/harbor-blooms-kokedama-diy-class-at-junk-queen-pinterest-party-12175
END:VEVENT

END:VCALENDAR
