BEGIN:VCALENDAR
VERSION:2.0
PRODID:-//ChamberMaster//Event Calendar 2.0//EN
METHOD:PUBLISH
X-PUBLISHED-TTL:P3D
REFRESH-INTERVAL:P3D
CALSCALE:GREGORIAN
BEGIN:VEVENT
DTSTART:20170827T193000Z
DTEND:20170827T220000Z
X-MICROSOFT-CDO-ALLDAYEVENT:FALSE
SUMMARY:Harbor City Church Annual Picnic
DESCRIPTION:It's picnic time again\, folks! This year\, we will be hosting our annual potluck picnic at our very own church! After second service\, bring a dish to share and come be a part of food\, fun and fellowship with our amazing church family! Here's your chance to talk to friends from both services\, and maybe meet some new ones as well! We will have some great activities for the whole family\, so come be ready to have some fun! And a huge thanks to Harbor City Men who will be manning the grills yet again\, to bring us BBQ chicken\, pulled pork and hamburgers! Families with last names A-L\, bring a salad to share. Families with last names M-Z bring a dessert to share! We can't wait to see y'all there!!!!
X-ALT-DESC;FMTTYPE=text/html:<span style="color: rgb(75\, 79\, 86)\; font-family: Helvetica\, Arial\, sans-serif\; font-size: 14px\; background-color: rgb(255\, 255\, 255)\;">It&#39\;s picnic time again\, folks! This year\, we will be hosting our annual potluck picnic at our very own church! After second service\, bring a dish to share and come be a part of food\, fun and fellowship with our amazing church family! Here&#39\;s your chance to talk to friends from both services\, and maybe meet some new ones as well! We will have some great activities for the whole family\, so come be ready to have some fun! And a huge thanks to Harbor City Men who will be manning the grills yet again\, to bring us BBQ chicken\, pulled pork and hamburgers! Families with last names A-L\, bring a salad to share. Families with last names M-Z bring a dessert to share! We can&#39\;t wait to see y&#39\;all there!!!!</span>
LOCATION:Harbor City Church 1700 Cherry St. Aberdeen\, WA
UID:e.26.8175
SEQUENCE:3
DTSTAMP:20260425T230745Z
URL:https://chamber.graysharbor.org/events/details/harbor-city-church-annual-picnic-8175
END:VEVENT

END:VCALENDAR
