BEGIN:VCALENDAR
VERSION:2.0
PRODID:-//ChamberMaster//Event Calendar 2.0//EN
METHOD:PUBLISH
X-PUBLISHED-TTL:P3D
REFRESH-INTERVAL:P3D
CALSCALE:GREGORIAN
BEGIN:VEVENT
DTSTART:20260111T030000Z
DTEND:20260111T053000Z
X-MICROSOFT-CDO-ALLDAYEVENT:FALSE
SUMMARY:Harbor Havoc - New Years Retribution
DESCRIPTION:Harbor Havoc   New Year's Retribution\n\nPresented by Rogue Wrestling Attractions\n\nRogue Wrestling Attractions kicks off 2026 with Harbor Havoc   New Year's Retribution\, a high-impact night of live professional wrestling\, championship drama\, and live music at the Ocean Shores Convention Center on Saturday\, January 10\, 2026.\n\nThis event brings together some of the most intense rivalries and biggest matchups in Rogue Wrestling Attractions\, headlined by a long-awaited Harbor Havoc Championship Match. Reigning Harbor Havoc champion "HellBlazer" Draven Vargas defends his title against Big Nasty Logan\, "The Beast of Aberdeen\," in a showdown more than a year in the making. Their rivalry has been fueled by controversy\, physical punishment\, and unfinished business\, and now it comes to a head with the championship on the line.\n\nBefore the main event\, the future of the Harbor Havoc Championship will begin to take shape in a #1 Contender Match\, as Celestial faces off against fan-favorite "TNT" Tyson Lee. With contrasting styles and championship implications\, the winner earns a future title opportunity.\n\nAdditional matches include:\n\n\n	\n	Christopher Ryseck vs. Kris Marx\, a pivotal crossroads match with major implications for both competitors' momentum and standing.\n	\n	\n	Mario Defederici vs. Thee Rat King\, a personal one-on-one clash rooted in past tag team championship and personal history.\n	\n	\n	Carl Steele vs. HellHound Petrov\, a hard-hitting battle between a rising powerhouse and one of Rogue Wrestling Attractions' most established and dangerous veterans.\n	\n\n\nHarbor Havoc   New Year's Retribution is designed as a complete live entertainment experience. Fans arriving early will enjoy live music from local Aberdeen band\, Clear Nothing\, from 6:00 PM to 7:00 PM\, with an additional performance during intermission\, creating an electric atmosphere throughout the night.\n\nRogue Wrestling Attractions has been bringing live professional wrestling to Grays Harbor since 2022\, delivering family-friendly\, high-energy events that blend athletic competition\, storytelling\, and community connection. Harbor Havoc   New Year's Retribution continues that tradition with affordable ticket options\, youth admission pricing\, and an all-ages welcome.\n\nDoors open at 6:00 PM\, with live professional wrestling beginning at 7:00 PM. Whether you're a longtime wrestling fan or experiencing live pro wrestling for the first time\, Harbor Havoc   New Year's Retribution promises an unforgettable night of action\, emotion\, and championship stakes in Ocean Shores.
X-ALT-DESC;FMTTYPE=text/html:<h3>Harbor Havoc &ndash\; New Year&rsquo\;s Retribution</h3>\n\n<p><strong>Presented by Rogue Wrestling Attractions</strong></p>\n\n<p>Rogue Wrestling Attractions kicks off 2026 with Harbor Havoc &ndash\; New Year&rsquo\;s Retribution\, a high-impact night of live professional wrestling\, championship drama\, and live music at the Ocean Shores Convention Center on Saturday\, January 10\, 2026.</p>\n\n<p>This event brings together some of the most intense rivalries and biggest matchups in Rogue Wrestling Attractions\, headlined by a long-awaited Harbor Havoc Championship Match. Reigning Harbor Havoc champion &ldquo\;HellBlazer&rdquo\; Draven Vargas defends his title against Big Nasty Logan\, &ldquo\;The Beast of Aberdeen\,&rdquo\; in a showdown more than a year in the making. Their rivalry has been fueled by controversy\, physical punishment\, and unfinished business\, and now it comes to a head with the championship on the line.</p>\n\n<p>Before the main event\, the future of the Harbor Havoc Championship will begin to take shape in a #1 Contender Match\, as Celestial faces off against fan-favorite &ldquo\;TNT&rdquo\; Tyson Lee. With contrasting styles and championship implications\, the winner earns a future title opportunity.</p>\n\n<p>Additional matches include:</p>\n\n<ul>\n	<li>\n	<p>Christopher Ryseck vs. Kris Marx\, a pivotal crossroads match with major implications for both competitors&rsquo\; momentum and standing.</p>\n	</li>\n	<li>\n	<p>Mario Defederici vs. Thee Rat King\, a personal one-on-one clash rooted in past tag team championship and personal history.</p>\n	</li>\n	<li>\n	<p>Carl Steele vs. HellHound Petrov\, a hard-hitting battle between a rising powerhouse and one of Rogue Wrestling Attractions&rsquo\; most established and dangerous veterans.</p>\n	</li>\n</ul>\n\n<p>Harbor Havoc &ndash\; New Year&rsquo\;s Retribution is designed as a complete live entertainment experience. Fans arriving early will enjoy live music from local Aberdeen band\, Clear Nothing\, from 6:00 PM to 7:00 PM\, with an additional performance during intermission\, creating an electric atmosphere throughout the night.</p>\n\n<p>Rogue Wrestling Attractions has been bringing live professional wrestling to Grays Harbor since 2022\, delivering family-friendly\, high-energy events that blend athletic competition\, storytelling\, and community connection. Harbor Havoc &ndash\; New Year&rsquo\;s Retribution continues that tradition with affordable ticket options\, youth admission pricing\, and an all-ages welcome.</p>\n\n<p>Doors open at 6:00 PM\, with live professional wrestling beginning at 7:00 PM. Whether you&rsquo\;re a longtime wrestling fan or experiencing live pro wrestling for the first time\, Harbor Havoc &ndash\; New Year&rsquo\;s Retribution promises an unforgettable night of action\, emotion\, and championship stakes in Ocean Shores.</p>\n
LOCATION:Ocean Shores Convention Center 120 W Chance a La Mer NW Ocean Shores\, WA 98569
UID:e.26.16366
SEQUENCE:3
DTSTAMP:20260423T191927Z
URL:https://chamber.graysharbor.org/events/details/harbor-havoc-new-years-retribution-16366
END:VEVENT

END:VCALENDAR
