BEGIN:VCALENDAR
VERSION:2.0
PRODID:-//ChamberMaster//Event Calendar 2.0//EN
METHOD:PUBLISH
X-PUBLISHED-TTL:P3D
REFRESH-INTERVAL:P3D
CALSCALE:GREGORIAN
BEGIN:VEVENT
DTSTART:20171111T180000Z
DTEND:20171111T220000Z
X-MICROSOFT-CDO-ALLDAYEVENT:FALSE
SUMMARY:Harbor Holiday’s Holiday Bazaar
DESCRIPTION:Come shop many vendors at our first annual Harbor Holiday's holiday bazaar at the community room (old Maurice's) at shoppes at riverside! Open from 10-2 November 11th! \n\n\n\n15+ vendors from Scentsy\, lularoe\, lipsense\, homemade wreaths and decor\, and so much more!
X-ALT-DESC;FMTTYPE=text/html:<span style="color: rgb(75\, 79\, 86)\; font-family: Helvetica\, Arial\, sans-serif\; font-size: 14px\; background-color: rgb(255\, 255\, 255)\;">Come shop many vendors at our first annual Harbor Holiday&rsquo\;s holiday bazaar at the community room (old Maurice&rsquo\;s) at shoppes at riverside! Open from 10-2 November 11th!&nbsp\;</span><br style="color: rgb(75\, 79\, 86)\; font-family: Helvetica\, Arial\, sans-serif\; font-size: 14px\; background-color: rgb(255\, 255\, 255)\;" />\n<br style="color: rgb(75\, 79\, 86)\; font-family: Helvetica\, Arial\, sans-serif\; font-size: 14px\; background-color: rgb(255\, 255\, 255)\;" />\n<span style="color: rgb(75\, 79\, 86)\; font-family: Helvetica\, Arial\, sans-serif\; font-size: 14px\; background-color: rgb(255\, 255\, 255)\;">15+ vendors from Scentsy\, lularoe\, lipsense\, homemade wreaths and decor\, and so much more!</span>
LOCATION:Shoppes at Riverside Aberdeen\, WA (located in the community room\, formerly Maurice's)
UID:e.26.8286
SEQUENCE:3
DTSTAMP:20260425T195628Z
URL:https://chamber.graysharbor.org/events/details/harbor-holiday-s-holiday-bazaar-8286
END:VEVENT

END:VCALENDAR
