BEGIN:VCALENDAR
VERSION:2.0
PRODID:-//ChamberMaster//Event Calendar 2.0//EN
METHOD:PUBLISH
X-PUBLISHED-TTL:P3D
REFRESH-INTERVAL:P3D
CALSCALE:GREGORIAN
BEGIN:VEVENT
DTSTART:20170723T010000Z
DTEND:20170723T030000Z
X-MICROSOFT-CDO-ALLDAYEVENT:FALSE
SUMMARY:HarborCon
DESCRIPTION:HarborCon - FREE Teens Ony Event!\n\n \n\n	Cosplay contest\n	Food\n	Crafts and much more!\n\nPick up a ticket at any Grays Harbor Library starting June 1st. For teens grade 6-12th
X-ALT-DESC;FMTTYPE=text/html:<u><strong>HarborCon - FREE Teens Ony Event!</strong></u><br />\n&nbsp\;\n<ul>\n	<li>Cosplay contest</li>\n	<li>Food</li>\n	<li>Crafts and much more!</li>\n</ul>\nPick up a ticket at any Grays Harbor Library starting June 1st. For teens grade 6-12th
LOCATION:Aberdeen Timberland Library (use back entrance) 121 East Market St. Aberdeen\, WA
UID:e.26.7740
SEQUENCE:3
DTSTAMP:20260426T002747Z
URL:https://chamber.graysharbor.org/events/details/harborcon-7740
END:VEVENT

END:VCALENDAR
