BEGIN:VCALENDAR
VERSION:2.0
PRODID:-//ChamberMaster//Event Calendar 2.0//EN
METHOD:PUBLISH
X-PUBLISHED-TTL:P3D
REFRESH-INTERVAL:P3D
CALSCALE:GREGORIAN
BEGIN:VEVENT
DTSTART:20171015T010000Z
DTEND:20171015T040000Z
X-MICROSOFT-CDO-ALLDAYEVENT:FALSE
SUMMARY:Harborite of the Year
DESCRIPTION:The Aberdeen Museum of History will celebrate Scott Reynvaan as 2017 Harborite of the Year.  His commitment to the growth and health of Grays Harbor is something that has not gone unnoticed by our community. Tickets can be reserved or picked up at the Aberdeen Museum (360-533-1976).
X-ALT-DESC;FMTTYPE=text/html:The Aberdeen Museum of History will celebrate Scott Reynvaan as 2017 Harborite of the Year.&nbsp\; His commitment to the growth and health of Grays Harbor is something that has not gone&nbsp\;unnoticed by our community. Tickets can be reserved or picked up at the Aberdeen Museum (360-533-1976).
LOCATION:Aberdeen Museum of History
UID:e.26.8261
SEQUENCE:3
DTSTAMP:20260425T213444Z
URL:https://chamber.graysharbor.org/events/details/harborite-of-the-year-8261
END:VEVENT

END:VCALENDAR
