BEGIN:VCALENDAR
VERSION:2.0
PRODID:-//ChamberMaster//Event Calendar 2.0//EN
METHOD:PUBLISH
X-PUBLISHED-TTL:P3D
REFRESH-INTERVAL:P3D
CALSCALE:GREGORIAN
BEGIN:VEVENT
DTSTART:20180922T010000Z
DTEND:20180922T040000Z
X-MICROSOFT-CDO-ALLDAYEVENT:FALSE
SUMMARY:Harvest by the Sea 2018
DESCRIPTION:Join us for our annual Harvest by the Sea dinner hosted at the Seabrook Town Hall in Seabrook\, WA!
X-ALT-DESC;FMTTYPE=text/html:<span style="color: rgb(29\, 33\, 41)\; font-family: Helvetica\, Arial\, sans-serif\; font-size: 14px\; background-color: rgb(255\, 255\, 255)\;">Join us for our annual Harvest by the Sea dinner hosted at the Seabrook Town Hall in Seabrook\, WA!</span>
LOCATION:Seabrook Town Hall Seabrook Washington Pacific Beach\, WA
UID:e.26.11170
SEQUENCE:3
DTSTAMP:20260425T015725Z
URL:https://chamber.graysharbor.org/events/details/harvest-by-the-sea-2018-11170
END:VEVENT

END:VCALENDAR
