BEGIN:VCALENDAR
VERSION:2.0
PRODID:-//ChamberMaster//Event Calendar 2.0//EN
METHOD:PUBLISH
X-PUBLISHED-TTL:P3D
REFRESH-INTERVAL:P3D
CALSCALE:GREGORIAN
BEGIN:VEVENT
DTSTART:20171031T010000Z
DTEND:20171031T030000Z
X-MICROSOFT-CDO-ALLDAYEVENT:FALSE
SUMMARY:Harvest Festival
DESCRIPTION:This is a free event open to the community. There will be carnival games\, food\, inflatables and Trunk or Treat. Bring the family.
X-ALT-DESC;FMTTYPE=text/html:This is a free event open to the community. There will be carnival games\, food\, inflatables and Trunk or Treat. Bring the family.
LOCATION:Grays Harbor Foursquare Church 4800 Central Park Drive Aberdeen\, WA 98520
UID:e.26.8290
SEQUENCE:3
DTSTAMP:20260425T201231Z
URL:https://chamber.graysharbor.org/events/details/harvest-festival-10-30-2017-8290
END:VEVENT

END:VCALENDAR
