BEGIN:VCALENDAR
VERSION:2.0
PRODID:-//ChamberMaster//Event Calendar 2.0//EN
METHOD:PUBLISH
X-PUBLISHED-TTL:P3D
REFRESH-INTERVAL:P3D
CALSCALE:GREGORIAN
BEGIN:VEVENT
DTSTART:20171031T230000Z
DTEND:20171101T010000Z
X-MICROSOFT-CDO-ALLDAYEVENT:FALSE
SUMMARY:Haunted Lighthouse
DESCRIPTION:Put on your best costume and come on down to the Grays Harbor Lighthouse... On Halloween from 4:00 - 6:00 pm\, it's our annual Haunted Lighthouse Trick-or-Treat trail. We have plenty of candy to pass out and some non candy items too!
X-ALT-DESC;FMTTYPE=text/html:<span style="color: rgb(75\, 79\, 86)\; font-family: Helvetica\, Arial\, sans-serif\; font-size: 14px\; background-color: rgb(255\, 255\, 255)\;">Put on your best costume and come on down to the Grays Harbor Lighthouse... On Halloween from 4:00 - 6:00 pm\, it&#39\;s our annual Haunted Lighthouse Trick-or-Treat trail. We have plenty of candy to pass out and some non candy items too!</span>
LOCATION:Grays Harbor Lighthouse Westport\, WA
UID:e.26.8313
SEQUENCE:3
DTSTAMP:20260425T195310Z
URL:https://chamber.graysharbor.org/events/details/haunted-lighthouse-8313
END:VEVENT

END:VCALENDAR
