BEGIN:VCALENDAR
VERSION:2.0
PRODID:-//ChamberMaster//Event Calendar 2.0//EN
METHOD:PUBLISH
X-PUBLISHED-TTL:P3D
REFRESH-INTERVAL:P3D
CALSCALE:GREGORIAN
BEGIN:VEVENT
DTSTART:20170927T190000Z
DTEND:20170927T210000Z
X-MICROSOFT-CDO-ALLDAYEVENT:FALSE
SUMMARY:HBA September Forum
DESCRIPTION:Join us for our Monthly Forum.\n\n\n\nThis month we are featuring a noon forum in Hoquiam at Events on Emerson.\n\n\n\nTopics of Discussion:\n\n  Hoquiam Business Improvement Area   What does it mean for local businesses?\n\n  Sign Ordinance   November 1st Meeting\n\n\n\nHBA Member Updates\n\n  Hoquiam Brewing Company Now Open\n\n\n\nUpcoming Events\n\n  OCT 26-31   Haunted House Chairity Event\n\n  OCT 27   Ghostbusters\n\n  OCT 28   Haunted Hoquiam\n\n  NOV 11 & NOV 12   The Santa Experience\n\n  NOV 25   Small Business Saturday\n\n  DEC 2   Santa Pet Mini's\n\n  DEC 2 - Ho Ho Hoquiam\n\n\n\nCity Updates/Business Opportunities\n\n  New City Owned Properties: What you need to know.\n\n\n\n	Networking
X-ALT-DESC;FMTTYPE=text/html:<div class="_2qgs" style="color: rgb(75\, 79\, 86)\; padding: 12px\; position: relative\; border-top: none\; font-family: Helvetica\, Arial\, sans-serif\; font-size: 12px\;"><span class="_4n-j _3cht fsl" data-testid="event-permalink-details" style="font-size: 14px\; font-family: inherit\;">Join us for our Monthly Forum.<br />\n<br />\nThis month we are featuring a noon forum in Hoquiam at&nbsp\;<a data-hovercard="/ajax/hovercard/page.php?id=1910780042482343&amp\;extragetparams=%7B%22directed_target_id%22%3A118116438886299%7D" data-hovercard-prefer-more-content-show="1" href="https://www.facebook.com/eventsonemersonhoquiam/" style="color: rgb(54\, 88\, 153)\; cursor: pointer\; text-decoration-line: none\; font-family: inherit\;">Events on Emerson</a>.<br />\n<br />\nTopics of Discussion:<br />\n&bull\; Hoquiam Business Improvement Area &ndash\; What does it mean for local businesses?<br />\n&bull\; Sign Ordinance &ndash\; November 1st Meeting<br />\n<br />\nHBA Member Updates<br />\n&bull\; Hoquiam Brewing Company Now Open<br />\n<br />\nUpcoming Events<br />\n<span class="text_exposed_show" style="display: inline\; font-family: inherit\;">&bull\; OCT 26-31 &ndash\; Haunted House Chairity Event<br />\n&bull\; OCT 27 &ndash\; Ghostbusters<br />\n&bull\; OCT 28 &ndash\; Haunted Hoquiam<br />\n&bull\; NOV 11 &amp\; NOV 12 &ndash\; The Santa Experience<br />\n&bull\; NOV 25 &ndash\; Small Business Saturday<br />\n&bull\; DEC 2 &ndash\; Santa Pet Mini&#39\;s<br />\n&bull\; DEC 2 - Ho Ho Hoquiam<br />\n<br />\nCity Updates/Business Opportunities<br />\n&bull\; New City Owned Properties: What you need to know.</span></span></div>\n\n<div class="_1r51" style="line-height: 24px\; margin: 4px 12px 12px\; min-height: 24px\; font-family: Helvetica\, Arial\, sans-serif\; color: rgb(29\, 33\, 41)\; font-size: 12px\;">\n<ul class="uiList uiCollapsedList uiCollapsedListHidden _509- _4ki" id="u_jsonp_15_n" style="list-style-type: none\; margin: 0px\; padding: 0px\;">\n	<li style="border-width: 0px\; display: inline-block\; vertical-align: top\;"><a href="https://www.facebook.com/events/discovery/?acontext=%7B%22ref%22%3A44%2C%22unit_ref%22%3A%22related_events%22%2C%22source%22%3A1%2C%22action_history%22%3A%22%5B%7B%5C%22surface%5C%22%3A%5C%22permalink%5C%22%2C%5C%22mechanism%5C%22%3A%5C%22RHC%5C%22%2C%5C%22extra_data%5C%22%3A%5B%5D%7D%2C%7B%5C%22surface%5C%22%3A%5C%22permalink%5C%22%2C%5C%22mechanism%5C%22%3A%5C%22surface%5C%22%2C%5C%22extra_data%5C%22%3A%5B%5D%7D%2C%7B%5C%22surface%5C%22%3A%5C%22permalink%5C%22%2C%5C%22mechanism%5C%22%3A%5C%22event_information%5C%22%2C%5C%22extra_data%5C%22%3A%7B%5C%22tag%5C%22%3A%5C%22Networking%5C%22%7D%7D%5D%22%2C%22has_source%22%3Atrue%7D&amp\;suggestion_token=%7B%22event_categories%22%3A%5B1915104302042536%5D%7D" style="color: rgb(54\, 88\, 153)\; cursor: pointer\; text-decoration-line: none\; font-family: inherit\;"><span class="_47od" style="background-color: rgb(237\, 242\, 250)\; border-radius: 2px\; color: rgb(32\, 55\, 95)\; display: block\; height: 14px\; line-height: 14px\; margin: 0px 4px 4px 0px\; padding: 4px 6px\; position: relative\; font-family: inherit\;">Networking</span></a></li>\n</ul>\n</div>\n
LOCATION:Events on Emerson Hoquiam\, Wa
UID:e.26.8249
SEQUENCE:3
DTSTAMP:20260425T213030Z
URL:https://chamber.graysharbor.org/events/details/hba-september-forum-8249
END:VEVENT

END:VCALENDAR
