BEGIN:VCALENDAR
VERSION:2.0
PRODID:-//ChamberMaster//Event Calendar 2.0//EN
METHOD:PUBLISH
X-PUBLISHED-TTL:P3D
REFRESH-INTERVAL:P3D
CALSCALE:GREGORIAN
BEGIN:VEVENT
DTSTART:20190808T163000Z
DTEND:20190808T213000Z
X-MICROSOFT-CDO-ALLDAYEVENT:FALSE
SUMMARY:Headshot Event
DESCRIPTION:Get a fresh updated headshot (and a coffee) at Alder Creative's Headshot Event coming up August 8th!\n\nWhether you're in need of an updated photo as you transition from school to career\, prepare to grow your business with a professional image or you just want to show off your new haircut on your Facebook profile... they make it quick and easy!\n\nThey will be located at Tinderbox from 9:30am to 2:30pm. Photos are $30 per person and will be delivered digitally via email within 48 hours.
X-ALT-DESC;FMTTYPE=text/html:<span style="caret-color: rgb(29\, 33\, 41)\; color: rgb(29\, 33\, 41)\; font-family: system-ui\, -apple-system\, BlinkMacSystemFont\, &quot\;.SFNSText-Regular&quot\;\, sans-serif\; font-size: 14px\; white-space: pre-wrap\;">Get a fresh updated headshot (and a coffee) at Alder Creative&#39\;s Headshot Event coming up August 8th!</span><br style="caret-color: rgb(29\, 33\, 41)\; color: rgb(29\, 33\, 41)\; font-family: system-ui\, -apple-system\, BlinkMacSystemFont\, &quot\;.SFNSText-Regular&quot\;\, sans-serif\; font-size: 14px\; white-space: pre-wrap\;" />\n<span style="caret-color: rgb(29\, 33\, 41)\; color: rgb(29\, 33\, 41)\; font-family: system-ui\, -apple-system\, BlinkMacSystemFont\, &quot\;.SFNSText-Regular&quot\;\, sans-serif\; font-size: 14px\; white-space: pre-wrap\;">Whether you&#39\;re in need of an updated photo as you transition from school to career\, prepare to grow your business with a professional image or you just want to show off your new haircut on your Facebook profile... they make it quick and easy!</span><br style="caret-color: rgb(29\, 33\, 41)\; color: rgb(29\, 33\, 41)\; font-family: system-ui\, -apple-system\, BlinkMacSystemFont\, &quot\;.SFNSText-Regular&quot\;\, sans-serif\; font-size: 14px\; white-space: pre-wrap\;" />\n<span style="caret-color: rgb(29\, 33\, 41)\; color: rgb(29\, 33\, 41)\; font-family: system-ui\, -apple-system\, BlinkMacSystemFont\, &quot\;.SFNSText-Regular&quot\;\, sans-serif\; font-size: 14px\; white-space: pre-wrap\;">They will be located at Tinderbox from 9:30am to 2:30pm. Photos are $30 per person and will be delivered digitally via email within 48 hours.</span>
LOCATION:pin Tinderbox Coffee Roasters 113 E Wishkah St\, Aberdeen\, Washington 98520
UID:e.26.12067
SEQUENCE:3
DTSTAMP:20260424T102434Z
URL:https://chamber.graysharbor.org/events/details/headshot-event-12067
END:VEVENT

END:VCALENDAR
