BEGIN:VCALENDAR
VERSION:2.0
PRODID:-//ChamberMaster//Event Calendar 2.0//EN
METHOD:PUBLISH
X-PUBLISHED-TTL:P3D
REFRESH-INTERVAL:P3D
CALSCALE:GREGORIAN
BEGIN:VEVENT
DTSTART:20170805T230000Z
DTEND:20170806T010000Z
X-MICROSOFT-CDO-ALLDAYEVENT:FALSE
SUMMARY:Healthcare Crisis in Grays Harbor Public Forum
DESCRIPTION:Democracy Rising is pleased to invite everyone to a public forum where we will have a panel of people who work in the health care and insurance industries for a dialogue discussion on where we are today\, as well as what we can work toward in the future.\n\n\n\nCurrently accepted invites:\n\nGeorgia Davenport\, Whole Washington\, Interim Campaign Manager\n\nMartha Koester\, Health Care for All-WA\n\nDavid Aldrich\, GH Representative of the Office of the Commissioner of Insurance of WA\n\n\n\nOur facilitator will be Doreen Cato\n\n\n\nHow does the health insurance system work in Grays Harbor\, in the United States?\n\n\n\nWhat are the things we can do to improve the system?\n\n\n\nWe will be supporting the Habitat for Humanity Habitastic Kids Carnival starting at noon\, then invite you inside to our information and education discussion at 4:00\n\n\n\nQuestions and engagement are encouraged.\n\n\n\nTeenageers available to help watch your little ones.\n\n\n\nDonation are gratefully accepted to finance future events.
X-ALT-DESC;FMTTYPE=text/html:<span style="color: rgb(75\, 79\, 86)\; font-family: Helvetica\, Arial\, sans-serif\; font-size: 14px\; background-color: rgb(255\, 255\, 255)\;">Democracy Rising is pleased to invite everyone to a public forum where we will have a panel of people who work in the health care and insurance industries for a dialogue discussion on where we are today\, as well as what we can work toward in the future.</span><br style="color: rgb(75\, 79\, 86)\; font-family: Helvetica\, Arial\, sans-serif\; font-size: 14px\; background-color: rgb(255\, 255\, 255)\;" />\n<br style="color: rgb(75\, 79\, 86)\; font-family: Helvetica\, Arial\, sans-serif\; font-size: 14px\; background-color: rgb(255\, 255\, 255)\;" />\n<span style="color: rgb(75\, 79\, 86)\; font-family: Helvetica\, Arial\, sans-serif\; font-size: 14px\; background-color: rgb(255\, 255\, 255)\;">Currently accepted invites:</span><br style="color: rgb(75\, 79\, 86)\; font-family: Helvetica\, Arial\, sans-serif\; font-size: 14px\; background-color: rgb(255\, 255\, 255)\;" />\n<span style="color: rgb(75\, 79\, 86)\; font-family: Helvetica\, Arial\, sans-serif\; font-size: 14px\; background-color: rgb(255\, 255\, 255)\;">Georgia Davenport\, Whole Washington\, Interim Campaign Manager</span><br style="color: rgb(75\, 79\, 86)\; font-family: Helvetica\, Arial\, sans-serif\; font-size: 14px\; background-color: rgb(255\, 255\, 255)\;" />\n<span style="color: rgb(75\, 79\, 86)\; font-family: Helvetica\, Arial\, sans-serif\; font-size: 14px\; background-color: rgb(255\, 255\, 255)\;">Martha Koester\, Health Care for All-WA</span><br style="color: rgb(75\, 79\, 86)\; font-family: Helvetica\, Arial\, sans-serif\; font-size: 14px\; background-color: rgb(255\, 255\, 255)\;" />\n<span style="color: rgb(75\, 79\, 86)\; font-family: Helvetica\, Arial\, sans-serif\; font-size: 14px\; background-color: rgb(255\, 255\, 255)\;">David Aldrich\, GH Representative of the Office of the Commissioner of Insurance of WA</span><br style="color: rgb(75\, 79\, 86)\; font-family: Helvetica\, Arial\, sans-serif\; font-size: 14px\; background-color: rgb(255\, 255\, 255)\;" />\n<br style="color: rgb(75\, 79\, 86)\; font-family: Helvetica\, Arial\, sans-serif\; font-size: 14px\; background-color: rgb(255\, 255\, 255)\;" />\n<span style="color: rgb(75\, 79\, 86)\; font-family: Helvetica\, Arial\, sans-serif\; font-size: 14px\; background-color: rgb(255\, 255\, 255)\;">Our facilitator will be Doreen Cato</span><br style="color: rgb(75\, 79\, 86)\; font-family: Helvetica\, Arial\, sans-serif\; font-size: 14px\; background-color: rgb(255\, 255\, 255)\;" />\n<br style="color: rgb(75\, 79\, 86)\; font-family: Helvetica\, Arial\, sans-serif\; font-size: 14px\; background-color: rgb(255\, 255\, 255)\;" />\n<span style="color: rgb(75\, 79\, 86)\; font-family: Helvetica\, Arial\, sans-serif\; font-size: 14px\; background-color: rgb(255\, 255\, 255)\;">How does the health insurance system work in Grays Harbor\, in the United States?</span><br style="color: rgb(75\, 79\, 86)\; font-family: Helvetica\, Arial\, sans-serif\; font-size: 14px\; background-color: rgb(255\, 255\, 255)\;" />\n<br style="color: rgb(75\, 79\, 86)\; font-family: Helvetica\, Arial\, sans-serif\; font-size: 14px\; background-color: rgb(255\, 255\, 255)\;" />\n<span style="color: rgb(75\, 79\, 86)\; font-family: Helvetica\, Arial\, sans-serif\; font-size: 14px\; background-color: rgb(255\, 255\, 255)\;">What are the things we can do to improve the system?</span><br />\n<br />\n<span class="text_exposed_show" style="display: inline\; font-family: Helvetica\, Arial\, sans-serif\; color: rgb(75\, 79\, 86)\; font-size: 14px\; background-color: rgb(255\, 255\, 255)\;">We will be supporting the Habitat for Humanity Habitastic Kids Carnival starting at noon\, then invite you inside to our information and education discussion at 4:00<br />\n<br />\nQuestions and engagement are encouraged.<br />\n<br />\nTeenageers available to help watch your little ones.<br />\n<br />\nDonation are gratefully accepted to finance future events.</span>\n<div>&nbsp\;</div>\n
LOCATION:Shoppes at Riverside Boone Street Aberdeen\, WA
UID:e.26.8065
SEQUENCE:3
DTSTAMP:20260425T230820Z
URL:https://chamber.graysharbor.org/events/details/healthcare-crisis-in-grays-harbor-public-forum-8065
END:VEVENT

END:VCALENDAR
