BEGIN:VCALENDAR
VERSION:2.0
PRODID:-//ChamberMaster//Event Calendar 2.0//EN
METHOD:PUBLISH
X-PUBLISHED-TTL:P3D
REFRESH-INTERVAL:P3D
CALSCALE:GREGORIAN
BEGIN:VEVENT
DTSTART:20180429T190000Z
DTEND:20180429T210000Z
X-MICROSOFT-CDO-ALLDAYEVENT:FALSE
SUMMARY:Healthy Kid Day
DESCRIPTION:Healthy Kids Day\n\nFree family event for the community.\n\nFun filled day loaded with healthy activities\, prizes\, free T-Shirts\, and educational booths.\n\n\n\nActivities\n\n  Family Aerobics\n\n  Gymnastics Tumble Track\n\n  Taekwon-Do Demo\n\n  STEM Activities\n\n  Water Safety\n\n  Healthy Snack\n\n  Germ Station\n\n  Fit Challenge\n\n  Gardening\n\n  National Coloring Contest\n\n\n\nPrizes\n\n  Beats Headphones\n\n  Ladder Toss\n\n  Flying Disc Frisbee Game\n\n  Kan Jam\n\n  GoSports Disc Slam Flying Disc Game\n\n  Family Games\n\n  And Much Much More!\n\n\n\nYMCA of Grays Harbor\n\nSunday\n\nApril 29th \n\n12:00-2:00pm\n\n\n\nFree Rec Swim\n\n1:00pm\n\nWater Slide (1:00-3:00pm)\n\n\n\nSponsored by Summit Pacific Medical Center\n\n*Adults must have picture ID to enter the facility.
X-ALT-DESC;FMTTYPE=text/html:<span style="color: rgb(75\, 79\, 86)\; font-family: Helvetica\, Arial\, sans-serif\; font-size: 14px\; background-color: rgb(255\, 255\, 255)\;">Healthy Kids Day</span><br style="color: rgb(75\, 79\, 86)\; font-family: Helvetica\, Arial\, sans-serif\; font-size: 14px\; background-color: rgb(255\, 255\, 255)\;" />\n<span style="color: rgb(75\, 79\, 86)\; font-family: Helvetica\, Arial\, sans-serif\; font-size: 14px\; background-color: rgb(255\, 255\, 255)\;">Free family event for the community.</span><br style="color: rgb(75\, 79\, 86)\; font-family: Helvetica\, Arial\, sans-serif\; font-size: 14px\; background-color: rgb(255\, 255\, 255)\;" />\n<span style="color: rgb(75\, 79\, 86)\; font-family: Helvetica\, Arial\, sans-serif\; font-size: 14px\; background-color: rgb(255\, 255\, 255)\;">Fun filled day loaded with healthy activities\, prizes\, free T-Shirts\, and educational booths.</span><br style="color: rgb(75\, 79\, 86)\; font-family: Helvetica\, Arial\, sans-serif\; font-size: 14px\; background-color: rgb(255\, 255\, 255)\;" />\n<br style="color: rgb(75\, 79\, 86)\; font-family: Helvetica\, Arial\, sans-serif\; font-size: 14px\; background-color: rgb(255\, 255\, 255)\;" />\n<span style="color: rgb(75\, 79\, 86)\; font-family: Helvetica\, Arial\, sans-serif\; font-size: 14px\; background-color: rgb(255\, 255\, 255)\;">Activities</span><br style="color: rgb(75\, 79\, 86)\; font-family: Helvetica\, Arial\, sans-serif\; font-size: 14px\; background-color: rgb(255\, 255\, 255)\;" />\n<span style="color: rgb(75\, 79\, 86)\; font-family: Helvetica\, Arial\, sans-serif\; font-size: 14px\; background-color: rgb(255\, 255\, 255)\;">&bull\; Family Aerobics</span><br style="color: rgb(75\, 79\, 86)\; font-family: Helvetica\, Arial\, sans-serif\; font-size: 14px\; background-color: rgb(255\, 255\, 255)\;" />\n<span style="color: rgb(75\, 79\, 86)\; font-family: Helvetica\, Arial\, sans-serif\; font-size: 14px\; background-color: rgb(255\, 255\, 255)\;">&bull\; Gymnastics Tumble Track</span><br style="color: rgb(75\, 79\, 86)\; font-family: Helvetica\, Arial\, sans-serif\; font-size: 14px\; background-color: rgb(255\, 255\, 255)\;" />\n<span style="color: rgb(75\, 79\, 86)\; font-family: Helvetica\, Arial\, sans-serif\; font-size: 14px\; background-color: rgb(255\, 255\, 255)\;">&bull\; Taekwon-Do Demo</span><br style="color: rgb(75\, 79\, 86)\; font-family: Helvetica\, Arial\, sans-serif\; font-size: 14px\; background-color: rgb(255\, 255\, 255)\;" />\n<span style="color: rgb(75\, 79\, 86)\; font-family: Helvetica\, Arial\, sans-serif\; font-size: 14px\; background-color: rgb(255\, 255\, 255)\;">&bull\; STEM Activities</span><br style="color: rgb(75\, 79\, 86)\; font-family: Helvetica\, Arial\, sans-serif\; font-size: 14px\; background-color: rgb(255\, 255\, 255)\;" />\n<span style="color: rgb(75\, 79\, 86)\; font-family: Helvetica\, Arial\, sans-serif\; font-size: 14px\; background-color: rgb(255\, 255\, 255)\;">&bull\; Water Safety</span><br style="color: rgb(75\, 79\, 86)\; font-family: Helvetica\, Arial\, sans-serif\; font-size: 14px\; background-color: rgb(255\, 255\, 255)\;" />\n<span style="color: rgb(75\, 79\, 86)\; font-family: Helvetica\, Arial\, sans-serif\; font-size: 14px\; background-color: rgb(255\, 255\, 255)\;">&bull\; Healthy Snack</span><br style="color: rgb(75\, 79\, 86)\; font-family: Helvetica\, Arial\, sans-serif\; font-size: 14px\; background-color: rgb(255\, 255\, 255)\;" />\n<span style="color: rgb(75\, 79\, 86)\; font-family: Helvetica\, Arial\, sans-serif\; font-size: 14px\; background-color: rgb(255\, 255\, 255)\;">&bull\; Germ Station</span><br />\n<span class="text_exposed_show" style="display: inline\; font-family: Helvetica\, Arial\, sans-serif\; color: rgb(75\, 79\, 86)\; font-size: 14px\; background-color: rgb(255\, 255\, 255)\;">&bull\; Fit Challenge<br />\n&bull\; Gardening<br />\n&bull\; National Coloring Contest<br />\n<br />\nPrizes<br />\n&bull\; Beats Headphones<br />\n&bull\; Ladder Toss<br />\n&bull\; Flying Disc Frisbee Game<br />\n&bull\; Kan Jam<br />\n&bull\; GoSports Disc Slam Flying Disc Game<br />\n&bull\; Family Games<br />\n&bull\; And Much Much More!<br />\n<br />\nYMCA of Grays Harbor<br />\nSunday<br />\nApril 29th&nbsp\;<br />\n12:00-2:00pm<br />\n<br />\nFree Rec Swim<br />\n1:00pm<br />\nWater Slide (1:00-3:00pm)<br />\n<br />\nSponsored by Summit Pacific Medical Center<br />\n*Adults must have picture ID to enter the facility.</span>
LOCATION:YMCA of Grays Harbor
UID:e.26.10621
SEQUENCE:3
DTSTAMP:20260425T113454Z
URL:https://chamber.graysharbor.org/events/details/healthy-kid-day-10621
END:VEVENT

END:VCALENDAR
