BEGIN:VCALENDAR
VERSION:2.0
PRODID:-//ChamberMaster//Event Calendar 2.0//EN
METHOD:PUBLISH
X-PUBLISHED-TTL:P3D
REFRESH-INTERVAL:P3D
CALSCALE:GREGORIAN
BEGIN:VEVENT
DTSTART;VALUE=DATE:20170804
DTEND;VALUE=DATE:20170806
TRANSP:TRANSPARENT
X-MICROSOFT-CDO-ALLDAYEVENT:TRUE
SUMMARY:Heat on the Street Car & Motorcycle Show
DESCRIPTION:Classic car show plus vendors\, food and so much more.
X-ALT-DESC;FMTTYPE=text/html:Classic car show plus vendors\, food and so much more.
LOCATION:Elma\, WA
UID:e.26.7601
SEQUENCE:3
DTSTAMP:20260425T230820Z
URL:https://chamber.graysharbor.org/events/details/heat-on-the-street-car-motorcycle-show-7601
END:VEVENT

END:VCALENDAR
