BEGIN:VCALENDAR
VERSION:2.0
PRODID:-//ChamberMaster//Event Calendar 2.0//EN
METHOD:PUBLISH
X-PUBLISHED-TTL:P3D
REFRESH-INTERVAL:P3D
CALSCALE:GREGORIAN
BEGIN:VEVENT
DTSTART:20190517T010000Z
DTEND:20190517T030000Z
X-MICROSOFT-CDO-ALLDAYEVENT:FALSE
SUMMARY:Heels & Wheels Women's Networking Event
DESCRIPTION:Calling all ladies in the Grays Harbor area! \n\n\n\nGrab your friends and join us for Whitney Chevrolet's first Heels & Wheels Women's Networking event Sponsored by Hoquiam Licensing at Whitney's in Montesano on Thursday\, May 16th from 6pm-8pm. Meet the new female owner and Power Woman behind Whitney's Chevrolet and learn about her "Go Giver" philosophy. Network and share stories with other local ladies\, make new friends and meet local female business owners we'll be featuring at the event. \n\n\n\nEnjoy complimentary wine\, custom cookies by Party Food To Go\, light bites\, cupcakes by Just Dizzerts\, door prizes from local business owners. Get your favorite red heels or kicks ready and Save the Date! There will be Swag Bags full of goodies for the first 30 gals through the door. This is a free event. 21+. Please RSVP by indicating that you are "Going" on the attached Facebook page.\n\n\n\nUse #heelsandwheels on your socials! \n\nInstagram: @whitneyschevrolet Facebook: https://www.facebook.com/whitneyschev/
X-ALT-DESC;FMTTYPE=text/html:<span style="caret-color: rgb(29\, 33\, 41)\; color: rgb(29\, 33\, 41)\; font-family: system-ui\, -apple-system\, BlinkMacSystemFont\, &quot\;.SFNSText-Regular&quot\;\, sans-serif\; font-size: 14px\; white-space: pre-wrap\;">Calling all ladies in the Grays Harbor area! </span><br style="caret-color: rgb(29\, 33\, 41)\; color: rgb(29\, 33\, 41)\; font-family: system-ui\, -apple-system\, BlinkMacSystemFont\, &quot\;.SFNSText-Regular&quot\;\, sans-serif\; font-size: 14px\; white-space: pre-wrap\;" />\n<br style="caret-color: rgb(29\, 33\, 41)\; color: rgb(29\, 33\, 41)\; font-family: system-ui\, -apple-system\, BlinkMacSystemFont\, &quot\;.SFNSText-Regular&quot\;\, sans-serif\; font-size: 14px\; white-space: pre-wrap\;" />\n<span style="caret-color: rgb(29\, 33\, 41)\; color: rgb(29\, 33\, 41)\; font-family: system-ui\, -apple-system\, BlinkMacSystemFont\, &quot\;.SFNSText-Regular&quot\;\, sans-serif\; font-size: 14px\; white-space: pre-wrap\;">Grab your friends and join us for Whitney Chevrolet&rsquo\;s first Heels &amp\; Wheels Women&rsquo\;s Networking event Sponsored by Hoquiam Licensing at Whitney&rsquo\;s in Montesano on Thursday\, May 16th from 6pm-8pm. Meet the new female owner and Power Woman behind Whitney&rsquo\;s Chevrolet and learn about her &ldquo\;Go Giver&rdquo\; philosophy. Network and share stories with other local ladies\, make new friends and meet local female business owners we&#39\;ll be featuring at the event. </span><br style="caret-color: rgb(29\, 33\, 41)\; color: rgb(29\, 33\, 41)\; font-family: system-ui\, -apple-system\, BlinkMacSystemFont\, &quot\;.SFNSText-Regular&quot\;\, sans-serif\; font-size: 14px\; white-space: pre-wrap\;" />\n<br style="caret-color: rgb(29\, 33\, 41)\; color: rgb(29\, 33\, 41)\; font-family: system-ui\, -apple-system\, BlinkMacSystemFont\, &quot\;.SFNSText-Regular&quot\;\, sans-serif\; font-size: 14px\; white-space: pre-wrap\;" />\n<span style="caret-color: rgb(29\, 33\, 41)\; color: rgb(29\, 33\, 41)\; font-family: system-ui\, -apple-system\, BlinkMacSystemFont\, &quot\;.SFNSText-Regular&quot\;\, sans-serif\; font-size: 14px\; white-space: pre-wrap\;">Enjoy complimentary wine\, custom cookies by Party Food To Go\, light bites\, cupcakes by Just Dizzerts\, door prizes from local business owners. Get your favorite red heels or kicks ready and Save the Date! There will be Swag Bags full of goodies for the first 30 gals through the door. This is a free event. 21+. Please RSVP by indicating that you are &quot\;Going&quot\; on the attached Facebook page.</span><br />\n<br style="caret-color: rgb(29\, 33\, 41)\; color: rgb(29\, 33\, 41)\; font-family: system-ui\, -apple-system\, BlinkMacSystemFont\, &quot\;.SFNSText-Regular&quot\;\, sans-serif\; font-size: 14px\; white-space: pre-wrap\;" />\n<span style="caret-color: rgb(29\, 33\, 41)\; color: rgb(29\, 33\, 41)\; font-family: system-ui\, -apple-system\, BlinkMacSystemFont\, &quot\;.SFNSText-Regular&quot\;\, sans-serif\; font-size: 14px\; white-space: pre-wrap\;">Use </span><a href="https://www.facebook.com/hashtag/heelsandwheels" style="color: rgb(56\, 88\, 152)\; cursor: pointer\; text-decoration: none\; font-family: system-ui\, -apple-system\, BlinkMacSystemFont\, &quot\;.SFNSText-Regular&quot\;\, sans-serif\; font-size: 14px\; white-space: pre-wrap\;" target="_blank">#heelsandwheels</a><span style="caret-color: rgb(29\, 33\, 41)\; color: rgb(29\, 33\, 41)\; font-family: system-ui\, -apple-system\, BlinkMacSystemFont\, &quot\;.SFNSText-Regular&quot\;\, sans-serif\; font-size: 14px\; white-space: pre-wrap\;"> on your socials! </span><br style="caret-color: rgb(29\, 33\, 41)\; color: rgb(29\, 33\, 41)\; font-family: system-ui\, -apple-system\, BlinkMacSystemFont\, &quot\;.SFNSText-Regular&quot\;\, sans-serif\; font-size: 14px\; white-space: pre-wrap\;" />\n<span style="caret-color: rgb(29\, 33\, 41)\; color: rgb(29\, 33\, 41)\; font-family: system-ui\, -apple-system\, BlinkMacSystemFont\, &quot\;.SFNSText-Regular&quot\;\, sans-serif\; font-size: 14px\; white-space: pre-wrap\;">Instagram: @whitneyschevrolet Facebook: </span><a href="https://www.facebook.com/whitneyschev/" style="color: rgb(56\, 88\, 152)\; cursor: pointer\; text-decoration: none\; font-family: system-ui\, -apple-system\, BlinkMacSystemFont\, &quot\;.SFNSText-Regular&quot\;\, sans-serif\; font-size: 14px\; white-space: pre-wrap\;" target="_blank">https://www.facebook.com/whitneyschev/</a>
LOCATION:pin Whitney's Chevrolet 123 W Pioneer Ave\, Montesano\, Washington 98563
UID:e.26.12009
SEQUENCE:3
DTSTAMP:20260424T132827Z
URL:https://chamber.graysharbor.org/events/details/heels-wheels-women-s-networking-event-12009
END:VEVENT

END:VCALENDAR
