BEGIN:VCALENDAR
VERSION:2.0
PRODID:-//ChamberMaster//Event Calendar 2.0//EN
METHOD:PUBLISH
X-PUBLISHED-TTL:P3D
REFRESH-INTERVAL:P3D
CALSCALE:GREGORIAN
BEGIN:VEVENT
DTSTART:20191115T020000Z
DTEND:20191115T040000Z
X-MICROSOFT-CDO-ALLDAYEVENT:FALSE
SUMMARY:Heels & Wheels Women’s Networking Event
DESCRIPTION:Hello ladies! It's that time again! Grab your gal pals and get ready to take this event to the next level. For this event we would like to address 3 main topics. 1. What is the biggest challenge you face in your business? 2. What are some things you do to keep it positive and upbeat in your business? 3. Mentoring\, who is interested and how do we go about getting started? \n\n\n\nSince Christmas is fast approaching\, we would like to ask everyone to bring a toy to be donated to Connections of Grays Harbor Crisis Prevention Center. For every toy we collect\, Whitney's Chevrolet will make a similar donation. \n\n\n\nSo mark your calendars and bring us your insights!
X-ALT-DESC;FMTTYPE=text/html:<span style="caret-color: rgb(29\, 33\, 41)\; color: rgb(29\, 33\, 41)\; font-family: system-ui\, -apple-system\, BlinkMacSystemFont\, &quot\;.SFNSText-Regular&quot\;\, sans-serif\; font-size: 14px\; white-space: pre-wrap\;">Hello ladies! It&#39\;s that time again! Grab your gal pals and get ready to take this event to the next level. For this event we would like to address 3 main topics. 1. What is the biggest challenge you face in your business? 2. What are some things you do to keep it positive and upbeat in your business? 3. Mentoring\, who is interested and how do we go about getting started? </span><br style="caret-color: rgb(29\, 33\, 41)\; color: rgb(29\, 33\, 41)\; font-family: system-ui\, -apple-system\, BlinkMacSystemFont\, &quot\;.SFNSText-Regular&quot\;\, sans-serif\; font-size: 14px\; white-space: pre-wrap\;" />\n<br style="caret-color: rgb(29\, 33\, 41)\; color: rgb(29\, 33\, 41)\; font-family: system-ui\, -apple-system\, BlinkMacSystemFont\, &quot\;.SFNSText-Regular&quot\;\, sans-serif\; font-size: 14px\; white-space: pre-wrap\;" />\n<span style="caret-color: rgb(29\, 33\, 41)\; color: rgb(29\, 33\, 41)\; font-family: system-ui\, -apple-system\, BlinkMacSystemFont\, &quot\;.SFNSText-Regular&quot\;\, sans-serif\; font-size: 14px\; white-space: pre-wrap\;">Since Christmas is fast approaching\, we would like to ask everyone to bring a toy to be donated to Connections of Grays Harbor Crisis Prevention Center. For every toy we collect\, Whitney&#39\;s Chevrolet will make a similar donation. </span><br style="caret-color: rgb(29\, 33\, 41)\; color: rgb(29\, 33\, 41)\; font-family: system-ui\, -apple-system\, BlinkMacSystemFont\, &quot\;.SFNSText-Regular&quot\;\, sans-serif\; font-size: 14px\; white-space: pre-wrap\;" />\n<br style="caret-color: rgb(29\, 33\, 41)\; color: rgb(29\, 33\, 41)\; font-family: system-ui\, -apple-system\, BlinkMacSystemFont\, &quot\;.SFNSText-Regular&quot\;\, sans-serif\; font-size: 14px\; white-space: pre-wrap\;" />\n<span style="caret-color: rgb(29\, 33\, 41)\; color: rgb(29\, 33\, 41)\; font-family: system-ui\, -apple-system\, BlinkMacSystemFont\, &quot\;.SFNSText-Regular&quot\;\, sans-serif\; font-size: 14px\; white-space: pre-wrap\;">So mark your calendars and bring us your insights!</span>
LOCATION:pin Whitney's Chevrolet 123 W Pioneer Ave\, Montesano\, Washington 98563
UID:e.26.12269
SEQUENCE:3
DTSTAMP:20260424T042106Z
URL:https://chamber.graysharbor.org/events/details/heels-wheels-women-s-networking-event-12269
END:VEVENT

END:VCALENDAR
