BEGIN:VCALENDAR
VERSION:2.0
PRODID:-//ChamberMaster//Event Calendar 2.0//EN
METHOD:PUBLISH
X-PUBLISHED-TTL:P3D
REFRESH-INTERVAL:P3D
CALSCALE:GREGORIAN
BEGIN:VEVENT
DTSTART:20171201T020000Z
DTEND:20171201T040000Z
X-MICROSOFT-CDO-ALLDAYEVENT:FALSE
SUMMARY:Heritage Distiling Co and Oyhut Bay Bistro - Spirit Pairing
DESCRIPTION:Call to reserve: 360-940-7138\n\n$45 per person\n\nHeritage Distilling Company\, Inc pairing and tasting event. November 30th-6pm\n\nLive musical entertainment to follow with\n\nShawn Williams.\n\nCheck her out on www.shawnWilliamsmusic.com/ditties
X-ALT-DESC;FMTTYPE=text/html:<span style="color: rgb(75\, 79\, 86)\; font-family: Helvetica\, Arial\, sans-serif\; font-size: 14px\; background-color: rgb(255\, 255\, 255)\;">Call to reserve: 360-940-7138</span><br style="color: rgb(75\, 79\, 86)\; font-family: Helvetica\, Arial\, sans-serif\; font-size: 14px\; background-color: rgb(255\, 255\, 255)\;" />\n<span style="color: rgb(75\, 79\, 86)\; font-family: Helvetica\, Arial\, sans-serif\; font-size: 14px\; background-color: rgb(255\, 255\, 255)\;">$45 per person</span><br style="color: rgb(75\, 79\, 86)\; font-family: Helvetica\, Arial\, sans-serif\; font-size: 14px\; background-color: rgb(255\, 255\, 255)\;" />\n<span style="color: rgb(75\, 79\, 86)\; font-family: Helvetica\, Arial\, sans-serif\; font-size: 14px\; background-color: rgb(255\, 255\, 255)\;">Heritage Distilling Company\, Inc pairing and tasting event. November 30th-6pm</span><br style="color: rgb(75\, 79\, 86)\; font-family: Helvetica\, Arial\, sans-serif\; font-size: 14px\; background-color: rgb(255\, 255\, 255)\;" />\n<span style="color: rgb(75\, 79\, 86)\; font-family: Helvetica\, Arial\, sans-serif\; font-size: 14px\; background-color: rgb(255\, 255\, 255)\;">Live musical entertainment to follow with</span><br style="color: rgb(75\, 79\, 86)\; font-family: Helvetica\, Arial\, sans-serif\; font-size: 14px\; background-color: rgb(255\, 255\, 255)\;" />\n<span style="color: rgb(75\, 79\, 86)\; font-family: Helvetica\, Arial\, sans-serif\; font-size: 14px\; background-color: rgb(255\, 255\, 255)\;">Shawn Williams.</span><br style="color: rgb(75\, 79\, 86)\; font-family: Helvetica\, Arial\, sans-serif\; font-size: 14px\; background-color: rgb(255\, 255\, 255)\;" />\n<span style="color: rgb(75\, 79\, 86)\; font-family: Helvetica\, Arial\, sans-serif\; font-size: 14px\; background-color: rgb(255\, 255\, 255)\;">Check her out on&nbsp\;</span><a data-lynx-mode="async" href="https://l.facebook.com/l.php?u=http%3A%2F%2Fwww.shawnWilliamsmusic.com%2Fditties&amp\;h=ATNrG4o2I1hLVSwQlg6dZvRznFQwERUCP165bD_cREuW_ZuNQejqpNVaZf9WETqZyVALOSmuvp5mZiMoNojdrAZZHYPQpC7aLc2eEczgsGPtoUjZVVivCm5QmT6N1j_WmPcYVUQUVoDPrU6DIrPsXUjFmy9NnFGsh5HDlmlutwxavbmLGqoTe1PVy1_f5XZE" rel="nofollow noopener" style="color: rgb(54\, 88\, 153)\; cursor: pointer\; text-decoration-line: none\; font-family: Helvetica\, Arial\, sans-serif\; font-size: 14px\; background-color: rgb(255\, 255\, 255)\;" target="_blank"><span style="font-family: inherit\;">www.shawnWilliamsmusic.com</span><wbr />/ditties</a>
LOCATION:Oyhut Bay Ocean Shores
UID:e.26.8379
SEQUENCE:3
DTSTAMP:20260425T181738Z
URL:https://chamber.graysharbor.org/events/details/heritage-distiling-co-and-oyhut-bay-bistro-spirit-pairing-8379
END:VEVENT

END:VCALENDAR
