BEGIN:VCALENDAR
VERSION:2.0
PRODID:-//ChamberMaster//Event Calendar 2.0//EN
METHOD:PUBLISH
X-PUBLISHED-TTL:P3D
REFRESH-INTERVAL:P3D
CALSCALE:GREGORIAN
BEGIN:VEVENT
DTSTART:20190320T233000Z
DTEND:20190321T023000Z
X-MICROSOFT-CDO-ALLDAYEVENT:FALSE
SUMMARY:Heron Street Bridge Replacement Open House
DESCRIPTION:The Washington State Department of Transportation and local partners are considering the best path forward for removing and replacing the US 12 Heron Street Bridge which is reaching the end of its useful life. Community input is needed on the range of alternatives for a new crossing over the Wishkah River. A drop-in style open house at the Rotary Log Pavilion from 4:30 PM to 7:30 PM on March 20 will highlight the proposed alternatives and provide an opportunity for the community to provide input. No formal presentation will be given\, however region planners will be on hand to explain the bridge alternatives\, answer any questions and take feedback.\n\n\n\nPublic comment may also be provided through an online survey that is available through 11:59 p.m. Friday\, April 12. The survey can be found at https://www.surveymonkey.com/r/QSYRS9W.
X-ALT-DESC;FMTTYPE=text/html:<span style="caret-color: rgb(29\, 33\, 41)\; color: rgb(29\, 33\, 41)\; font-family: system-ui\, -apple-system\, BlinkMacSystemFont\, &quot\;.SFNSText-Regular&quot\;\, sans-serif\; font-size: 14px\; white-space: pre-wrap\; background-color: rgb(255\, 255\, 255)\;">The Washington State Department of Transportation and local partners are considering the best path forward for removing and replacing the US 12 Heron Street Bridge which is reaching the end of its useful life. Community input is needed on the range of alternatives for a new crossing over the Wishkah River. A drop-in style open house at the Rotary Log Pavilion from 4:30 PM to 7:30 PM on March 20 will highlight the proposed alternatives and provide an opportunity for the community to provide input. No formal presentation will be given\, however region planners will be on hand to explain the bridge alternatives\, answer any questions and take feedback.</span><br style="caret-color: rgb(29\, 33\, 41)\; color: rgb(29\, 33\, 41)\; font-family: system-ui\, -apple-system\, BlinkMacSystemFont\, &quot\;.SFNSText-Regular&quot\;\, sans-serif\; font-size: 14px\; white-space: pre-wrap\;" />\n<br style="caret-color: rgb(29\, 33\, 41)\; color: rgb(29\, 33\, 41)\; font-family: system-ui\, -apple-system\, BlinkMacSystemFont\, &quot\;.SFNSText-Regular&quot\;\, sans-serif\; font-size: 14px\; white-space: pre-wrap\;" />\n<span style="caret-color: rgb(29\, 33\, 41)\; color: rgb(29\, 33\, 41)\; font-family: system-ui\, -apple-system\, BlinkMacSystemFont\, &quot\;.SFNSText-Regular&quot\;\, sans-serif\; font-size: 14px\; white-space: pre-wrap\; background-color: rgb(255\, 255\, 255)\;">Public comment may also be provided through an online survey that is available through 11:59 p.m. Friday\, April 12. The survey can be found at </span><a data-lynx-mode="hover" data-lynx-uri="https://l.facebook.com/l.php?u=https%3A%2F%2Fwww.surveymonkey.com%2Fr%2FQSYRS9W%3Ffbclid%3DIwAR10SIRB8ePpKIMYfYFuWPvKDB66U7x5BatntdYGrmN50aEL9ExAjaLCijY&amp\;h=AT2hr0t7T2WQeffzkvaSY2xwNIQUjr6E38KKyQ9FV18TY6-bFTwEl0ZBXAVnF0kpr8t-KQlHytMZ_G-gRltr4EOejo53iedccS5YQA7djGce4ib-DWFxom7NBPhCNmkyMeKbrXN7TQ" href="https://www.surveymonkey.com/r/QSYRS9W?fbclid=IwAR10SIRB8ePpKIMYfYFuWPvKDB66U7x5BatntdYGrmN50aEL9ExAjaLCijY" rel="nofollow noopener" style="color: rgb(54\, 88\, 153)\; cursor: pointer\; text-decoration: none\; font-family: system-ui\, -apple-system\, BlinkMacSystemFont\, &quot\;.SFNSText-Regular&quot\;\, sans-serif\; font-size: 14px\; white-space: pre-wrap\;" target="_blank">https://www.surveymonkey.com/r/QSYRS9W</a><span style="caret-color: rgb(29\, 33\, 41)\; color: rgb(29\, 33\, 41)\; font-family: system-ui\, -apple-system\, BlinkMacSystemFont\, &quot\;.SFNSText-Regular&quot\;\, sans-serif\; font-size: 14px\; white-space: pre-wrap\; background-color: rgb(255\, 255\, 255)\;">.</span>
LOCATION:pin Rotary Log Pavilion 1401 Sargent Blvd\, Aberdeen\, Washington 98520
UID:e.26.11803
SEQUENCE:3
DTSTAMP:20260424T163449Z
URL:https://chamber.graysharbor.org/events/details/heron-street-bridge-replacement-open-house-11803
END:VEVENT

END:VCALENDAR
