BEGIN:VCALENDAR
VERSION:2.0
PRODID:-//ChamberMaster//Event Calendar 2.0//EN
METHOD:PUBLISH
X-PUBLISHED-TTL:P3D
REFRESH-INTERVAL:P3D
CALSCALE:GREGORIAN
BEGIN:VEVENT
DTSTART;VALUE=DATE:20200307
DTEND;VALUE=DATE:20200308
TRANSP:TRANSPARENT
X-MICROSOFT-CDO-ALLDAYEVENT:TRUE
SUMMARY:HHS Band/Choir Auction & Spaghetti Feed
DESCRIPTION:The Hoquiam High School band and choir are raising funds for the current school year by organizing a Spaghetti Feed and Auction on March 7th. \n\n\n\nFor more information\, please call 360-538-8200.
X-ALT-DESC;FMTTYPE=text/html:<span style="font-family:arial\;">The Hoquiam High School band and choir are raising funds for the current school year by organizing <span style="caret-color: rgb(28\, 30\, 33)\; color: rgb(28\, 30\, 33)\; white-space: pre-wrap\; background-color: rgb(255\, 255\, 255)\;">a Spaghetti Feed and Auction</span>&nbsp\;on March 7th.&nbsp\;<br />\n<br />\nFor more information\, please call 360-538-8200.</span>
LOCATION:HHS Student Center/Cafeteria 325 West Chenault Avenue Hoquiam\, WA
UID:e.26.12418
SEQUENCE:3
DTSTAMP:20260424T060139Z
URL:https://chamber.graysharbor.org/events/details/hhs-band-choir-auction-spaghetti-feed-12418
END:VEVENT

END:VCALENDAR
