BEGIN:VCALENDAR
VERSION:2.0
PRODID:-//ChamberMaster//Event Calendar 2.0//EN
METHOD:PUBLISH
X-PUBLISHED-TTL:P3D
REFRESH-INTERVAL:P3D
CALSCALE:GREGORIAN
BEGIN:VEVENT
DTSTART;VALUE=DATE:20190424
DTEND;VALUE=DATE:20190426
TRANSP:TRANSPARENT
X-MICROSOFT-CDO-ALLDAYEVENT:TRUE
SUMMARY:High in Plain Sight - Alcohol\, Drug\, and Concealment Trends & Identifiers
DESCRIPTION:Jermaine Galloway is one of the Country's leading experts on recognizing and understanding drug culture and trends. \n\nAs parents\, educators and professionals in every walk of life it is hard to keep up with the every-changing landscape of substance use and abuse. Officer Galloway's presentation is highly informative and relevant   keeping you in the KNOW. \n\nYou will be amazed at the amount of information that is covered in one of his sessions. \n\nThis workshop is for educators\, prevention providers\, coalition members\, law enforcement\, probation officers\, school administration\, treatment\, counselors\, and social service providers.\n\nThis workshop covers alcohol and drug clothing\, alcoholic energy drinks\, alco-pops\, alcohol and drug concealment methods and containers\, drug paraphernalia\, drug related music and groups\, logos\, stickers\, new technology\, youth party tendencies\, party games\, non-traditional alcoholic beverages\, social networking sites\, dynthetic drugs\, OTC drus\, inhalants\, concentrates\, E-Cigarettes and popular party drugs.
X-ALT-DESC;FMTTYPE=text/html:<p dir="ltr" style="line-height: 1.38\; margin-top: 0pt\; margin-bottom: 0pt\;"><span style="font-size:16px\;"><span id="docs-internal-guid-6ff199ca-7fff-7541-fd3d-7670b7593466" style="caret-color: rgb(0\, 0\, 0)\;"><span style="background-color: transparent\; font-variant-ligatures: normal\; font-variant-east-asian: normal\; font-variant-position: normal\; vertical-align: baseline\; white-space: pre-wrap\;"><strong>Jermaine Galloway </strong>is one of the Country&rsquo\;s leading experts on recognizing and understanding drug culture and trends. </span></span></span></p>\n\n<p dir="ltr" style="line-height: 1.38\; margin-top: 0pt\; margin-bottom: 0pt\;"><span style="font-size:16px\;"><span id="docs-internal-guid-6ff199ca-7fff-7541-fd3d-7670b7593466" style="caret-color: rgb(0\, 0\, 0)\;"><span style="background-color: transparent\; font-variant-ligatures: normal\; font-variant-east-asian: normal\; font-variant-position: normal\; vertical-align: baseline\; white-space: pre-wrap\;">As parents\, educators and professionals in every walk of life it is hard to keep up with the every-changing landscape of substance use and abuse. Officer Galloway&rsquo\;s presentation is highly informative and relevant &mdash\; keeping you in the KNOW. </span></span></span></p>\n\n<p dir="ltr" style="line-height: 1.38\; margin-top: 0pt\; margin-bottom: 0pt\;"><span style="font-size:16px\;"><span id="docs-internal-guid-6ff199ca-7fff-7541-fd3d-7670b7593466" style="caret-color: rgb(0\, 0\, 0)\;"><span style="background-color: transparent\; font-variant-ligatures: normal\; font-variant-east-asian: normal\; font-variant-position: normal\; vertical-align: baseline\; white-space: pre-wrap\;">You will be amazed at the amount of information that is covered in one of his sessions. </span></span></span></p>\n\n<p style="margin: 0px\; padding: 10px 0px 0px\; color: rgb(111\, 114\, 135)\; font-family: &quot\;Neue Plak&quot\;\, -apple-system\, BlinkMacSystemFont\, Roboto\, &quot\;Helvetica Neue&quot\;\, Helvetica\, Tahoma\, Arial\, sans-serif\; font-size: 15px\; letter-spacing: 0.5px\;"><span style="font-family:arial\;"><span style="color:#000000\;"><span style="font-size:16px\;">This workshop is for educators\, prevention providers\, coalition members\, law enforcement\, probation officers\, school administration\, treatment\, counselors\, and social service providers.</span></span></span></p>\n\n<p style="margin: 0px\; padding: 10px 0px 0px\; color: rgb(111\, 114\, 135)\; font-family: &quot\;Neue Plak&quot\;\, -apple-system\, BlinkMacSystemFont\, Roboto\, &quot\;Helvetica Neue&quot\;\, Helvetica\, Tahoma\, Arial\, sans-serif\; font-size: 15px\; letter-spacing: 0.5px\;"><span style="font-family:arial\;"><span style="color:#000000\;">This workshop covers alcohol and drug clothing\, alcoholic energy drinks\, alco-pops\, alcohol and drug concealment methods and containers\, drug paraphernalia\, drug related music and groups\, logos\, stickers\, new technology\, youth party tendencies\, party games\, non-traditional alcoholic beverages\, social networking sites\, dynthetic drugs\, OTC drus\, inhalants\, concentrates\, E-Cigarettes and popular party drugs.</span></span></p>\n
LOCATION:April 24th: Hoquiam High School Little Theatre April 25th: Aberdeen Rotary Log Pavilion
UID:e.26.11909
SEQUENCE:3
DTSTAMP:20260424T152635Z
URL:https://chamber.graysharbor.org/events/details/high-in-plain-sight-alcohol-drug-and-concealment-trends-identifiers-11909
END:VEVENT

END:VCALENDAR
