BEGIN:VCALENDAR
VERSION:2.0
PRODID:-//ChamberMaster//Event Calendar 2.0//EN
METHOD:PUBLISH
X-PUBLISHED-TTL:P3D
REFRESH-INTERVAL:P3D
CALSCALE:GREGORIAN
BEGIN:VEVENT
DTSTART;VALUE=DATE:20190426
DTEND;VALUE=DATE:20190428
TRANSP:TRANSPARENT
X-MICROSOFT-CDO-ALLDAYEVENT:TRUE
SUMMARY:High Rolling Hot Rods
DESCRIPTION:If you want to check out some cool cars\, head to Quinault Beach Resort & Casino's High Rollin Hot Rods annual car show going on April 26th & 27th in Ocean Shores.\n\nCome early Friday for the Poker Run\, stay late and win big playing in the casino. Then\, join us Saturday for some great cars\, great prizes and a whole lotta fun. Plus\, we will have food & drink specials and live entertainment..\n\nIt's all put on by the Push Rods of Hoquaim and it's going to be a great time. \n\nRegister at show or online at www.pushrods.org
X-ALT-DESC;FMTTYPE=text/html:<h3 style="box-sizing: border-box\; font-family: &quot\;PT Sans&quot\;\, sans-serif\; line-height: 1.5\; color: rgb(17\, 17\, 17)\; margin: 0px 0px 5px\; font-size: 30px\; text-align: center\;"><span style="font-size:14px\;"><span style="font-family:arial\;">If you want to check out some cool cars\, head to Quinault Beach Resort &amp\; Casino&rsquo\;s&nbsp\;</span></span><span style="font-size:14px\;"><span style="font-family:arial\;">High Rollin Hot&nbsp\;Rods annual car show going on April 26th &amp\; 27th in Ocean Shores.</span></span><br style="box-sizing: border-box\;" />\n<span style="font-size:14px\;"><span style="font-family:arial\;">Come early Friday for the Poker Run\, stay late and win big playing in the casino.&nbsp\;</span></span><span style="font-size:14px\;"><span style="font-family:arial\;">Then\, join us Saturday for some great cars\, great prizes and a whole lotta fun.&nbsp\;</span></span><span style="font-size:14px\;"><span style="font-family:arial\;">Plus\, we will have food &amp\; drink specials and live entertainment..</span></span></h3>\n\n<h3 style="box-sizing: border-box\; font-family: &quot\;PT Sans&quot\;\, sans-serif\; line-height: 1.5\; color: rgb(17\, 17\, 17)\; margin: 0px 0px 5px\; font-size: 30px\; text-align: center\;"><span style="font-size:14px\;"><span style="font-family:arial\;">It&rsquo\;s all put on by the Push Rods of Hoquaim and it&rsquo\;s going to be a great time.&nbsp\;<br style="box-sizing: border-box\;" />\nRegister at show or online at www.pushrods.org</span></span></h3>\n
LOCATION:Quinault Beach Resort and Caisno Ocean Shores\, WA
UID:e.26.11904
SEQUENCE:3
DTSTAMP:20260424T163149Z
URL:https://chamber.graysharbor.org/events/details/high-rolling-hot-rods-11904
END:VEVENT

END:VCALENDAR
