BEGIN:VCALENDAR
VERSION:2.0
PRODID:-//ChamberMaster//Event Calendar 2.0//EN
METHOD:PUBLISH
X-PUBLISHED-TTL:P3D
REFRESH-INTERVAL:P3D
CALSCALE:GREGORIAN
BEGIN:VEVENT
DTSTART:20190629T190000Z
DTEND:20190629T210000Z
X-MICROSOFT-CDO-ALLDAYEVENT:FALSE
SUMMARY:Historic 1912 Caboose to be Moved to New Museum Site
DESCRIPTION:Ten years ago\, the Museum of the North Beach rescued an historic 1912 wooden Northern Pacific Caboose.  The caboose had been used as a nightly rental in Moclips\, and a new owner wanted it removed from their property.  Collected funds will be used to have it moved seven blocks to the Washington State Parks day use park in Moclips\, the original site of the Northern Pacific Railway depot. \n\n\n\nThis particular piece of railroad history is very important to Moclips by the Sea Historical Society as it was on the last train to Moclips before the tracks were torn up in the 1980's by the Burlington Northern.  \n\n\n\nSaturday\, June 29th has been selected for the move\, which will be orchestrated by Bruce Thompson (New Museum Project Site Manager) and Reggie Riekkola of Riekkola Construction.\n\n\n\nThe transport will begin around noon and travel along State Route 109\, 1-1/2 miles to the new museum building site. This will be an extraordinary event as you don't see cabooses moving down a highway and the fact that they are no longer being used by railroads.\n\n\n\nMoclips by the Sea Historical Society has partnered with the North Beach Community to build a replica of the Northern Pacific Railway's Moclips Depot\, which will house a brand new Museum of the North Beach - displaying the Historical Society's ever-expanding collection of artifacts and research material.  In 2015\, the Ocean Crest Resort donated four parcels of beautiful park-like land about 3 blocks south of the current Museum.   The new museum building will be a replica of the Northern Pacific Railway depot at Moclips\, built in 1905 and taken down in the later 1950's due to dilapidation.\n\n\n\nIf you visit YouTube and search "Moclips caboose\," you'll find a few short videos of the move to State Parks property in 2009 taken by Stephanie Allestad.
X-ALT-DESC;FMTTYPE=text/html:<span style="caret-color: rgb(34\, 34\, 34)\; color: rgb(34\, 34\, 34)\; font-family: Arial\, Helvetica\, sans-serif\; font-size: small\;">Ten years ago\, the Museum of the North Beach rescued an historic 1912 wooden Northern Pacific Caboose.&nbsp\; The caboose had been used as a nightly rental in Moclips\, and a new owner wanted it removed from their property. &nbsp\;Collected funds will be used to have it moved seven blocks to the Washington State Parks day use park in Moclips\, the original site of the Northern Pacific Railway depot.&nbsp\;<br />\n<br />\nThis particular piece of railroad history is very important to Moclips by the Sea Historical Society as it was on the last train to Moclips before the tracks were torn up in the 1980&#39\;s by the Burlington Northern. &nbsp\;</span><br style="caret-color: rgb(34\, 34\, 34)\; color: rgb(34\, 34\, 34)\; font-family: Arial\, Helvetica\, sans-serif\;" />\n<br />\n<span style="caret-color: rgb(34\, 34\, 34)\; color: rgb(34\, 34\, 34)\; font-family: Arial\, Helvetica\, sans-serif\; font-size: small\;">Saturday\, June 29th has been selected for the move\, which will be orchestrated by Bruce Thompson (New Museum Project Site Manager) and Reggie Riekkola of Riekkola Construction.<br />\n<br />\nThe transport will begin around noon and travel along State Route 109\, 1-1/2 miles to the new museum building site. This will be an extraordinary event as you don&#39\;t see cabooses moving down a highway and the fact that they are no longer being used by railroads.</span><br style="caret-color: rgb(34\, 34\, 34)\; color: rgb(34\, 34\, 34)\; font-family: Arial\, Helvetica\, sans-serif\;" />\n<br style="caret-color: rgb(34\, 34\, 34)\; color: rgb(34\, 34\, 34)\; font-family: Arial\, Helvetica\, sans-serif\;" />\n<span style="caret-color: rgb(34\, 34\, 34)\; color: rgb(34\, 34\, 34)\; font-family: Arial\, Helvetica\, sans-serif\; font-size: small\;">Moclips by the Sea Historical Society has partnered with the North Beach Community to build a replica of the Northern Pacific Railway&#39\;s Moclips Depot\, which will house a brand new Museum of the North Beach - displaying the Historical Society&#39\;s ever-expanding collection of artifacts and research material.&nbsp\; In 2015\, the Ocean Crest Resort donated four parcels of beautiful park-like land about 3 blocks south of the current Museum.&nbsp\; &nbsp\;The new museum building will be a replica of the Northern Pacific Railway depot at Moclips\, built in 1905 and taken down in the later 1950&#39\;s due to dilapidation.</span><br />\n<br />\n<span style="caret-color: rgb(34\, 34\, 34)\; color: rgb(34\, 34\, 34)\; font-family: Arial\, Helvetica\, sans-serif\; font-size: small\;">If you visit YouTube and search &quot\;Moclips caboose\,&quot\; you&#39\;ll find a few short videos of the move to State Parks property in 2009 taken by Stephanie Allestad.</span>
LOCATION:Moclips
UID:e.26.12051
SEQUENCE:3
DTSTAMP:20260424T133201Z
URL:https://chamber.graysharbor.org/events/details/historic-1912-caboose-to-be-moved-to-new-museum-site-12051
END:VEVENT

END:VCALENDAR
