BEGIN:VCALENDAR
VERSION:2.0
PRODID:-//ChamberMaster//Event Calendar 2.0//EN
METHOD:PUBLISH
X-PUBLISHED-TTL:P3D
REFRESH-INTERVAL:P3D
CALSCALE:GREGORIAN
BEGIN:VEVENT
DTSTART:20180421T200000Z
DTEND:20180422T000000Z
X-MICROSOFT-CDO-ALLDAYEVENT:FALSE
SUMMARY:Historic Hoquiam Memories
DESCRIPTION:A sharing of Hoquiam History. Pictures and memorabilia from various historic buildings\, families\, and organizations that have been in the Hoquiam\, some before we were a city. This year I have added crafts and skills used by the early settlers of this area. The Hoquiam Senior Citizen Center will be celebrating their 50th anniversary and will be set up in the center. Stop in and join in the fun. More information to follow.
X-ALT-DESC;FMTTYPE=text/html:A sharing of Hoquiam History. Pictures and memorabilia from various historic buildings\, families\, and organizations that have been in the Hoquiam\, some before we were a city. This year I have added crafts and skills used by the early settlers of this area. The Hoquiam Senior Citizen Center will be celebrating their 50th anniversary and will be set up in the center. Stop in and join in the fun. More information to follow.
LOCATION:Emerson Manor 707 Simpson Ave. Hoquiam
UID:e.26.9466
SEQUENCE:3
DTSTAMP:20260425T113828Z
URL:https://chamber.graysharbor.org/events/details/historic-hoquiam-memories-04-21-2018-9466
END:VEVENT

END:VCALENDAR
