BEGIN:VCALENDAR
VERSION:2.0
PRODID:-//ChamberMaster//Event Calendar 2.0//EN
METHOD:PUBLISH
X-PUBLISHED-TTL:P3D
REFRESH-INTERVAL:P3D
CALSCALE:GREGORIAN
BEGIN:VEVENT
DTSTART:20190427T200000Z
DTEND:20190428T000000Z
X-MICROSOFT-CDO-ALLDAYEVENT:FALSE
SUMMARY:Historic Hoquiam Memories
DESCRIPTION:Local history lovers get together and share their collections of Hoquiam History with the public. Also included is many of the historical buildings. Elks Lodge\, Masonic Lodge\, 7th Street Theater\, Emerson Hotel\, Polson Museum\, etc.
X-ALT-DESC;FMTTYPE=text/html:Local history lovers get together and share their collections of Hoquiam History with the public. Also included is many of the historical buildings. Elks Lodge\, Masonic Lodge\, 7th Street Theater\, Emerson Hotel\, Polson Museum\, etc.
LOCATION:Hoquiam Timberland Carnegie Library 420 7th Street Hoquiam\, Wa. Hoquiam\, Wa.
UID:e.26.11895
SEQUENCE:3
DTSTAMP:20260424T151431Z
URL:https://chamber.graysharbor.org/events/details/historic-hoquiam-memories-04-27-2019-11895
END:VEVENT

END:VCALENDAR
