BEGIN:VCALENDAR
VERSION:2.0
PRODID:-//ChamberMaster//Event Calendar 2.0//EN
METHOD:PUBLISH
X-PUBLISHED-TTL:P3D
REFRESH-INTERVAL:P3D
CALSCALE:GREGORIAN
BEGIN:VEVENT
DTSTART:20130419T020000Z
DTEND:20130419T040000Z
X-MICROSOFT-CDO-ALLDAYEVENT:FALSE
SUMMARY:History Alive:Thomas Edison
DESCRIPTION:The greatest inventor of all time\, Thomas Alva Edison (aka Patrick Garner)\, will engage the audience as they help recreate some of his most famous experiments. At the same time\, he shares key secrets for success in day-to-day life: the value of hard work\, the value of mistakes\, the value of turning liabilities into assets\, and the value of enjoying one's work.
X-ALT-DESC;FMTTYPE=text/html:The greatest inventor of all time\, Thomas Alva Edison (aka Patrick Garner)\, will engage the audience as they help recreate some of his most famous experiments. At the same time\, he shares key secrets for success in day-to-day life: the value of hard work\, the value of mistakes\, the value of turning liabilities into assets\, and the value of enjoying one&#39\;s work.
LOCATION:Bishop Center for Performing Arts Grays Harbor College\, 1620 Edward Smith Dr.\, Aberdeen\, WA 98520
UID:e.26.2312
SEQUENCE:3
DTSTAMP:20260420T214736Z
URL:https://chamber.graysharbor.org/events/details/history-alive-thomas-edison-04-18-2013-2312
END:VEVENT

END:VCALENDAR
