BEGIN:VCALENDAR
VERSION:2.0
PRODID:-//ChamberMaster//Event Calendar 2.0//EN
METHOD:PUBLISH
X-PUBLISHED-TTL:P3D
REFRESH-INTERVAL:P3D
CALSCALE:GREGORIAN
BEGIN:VEVENT
DTSTART;VALUE=DATE:20191207
DTEND;VALUE=DATE:20191208
TRANSP:TRANSPARENT
X-MICROSOFT-CDO-ALLDAYEVENT:TRUE
SUMMARY:Ho Ho Hoquiam
DESCRIPTION:Come get into the holiday spirit at Ho Ho Hoquiam! There will be lots of family fun at this annual event.\n\n	11am - pictures with Santa at Central School. There will be goodie bags and drawings for a bicycle and toys.\n	Grays Harbor Santa at 7th Street Theatre lobby from 4pm - 6pm.\n	Caroling in front of the Theatre at 7pm.\n	Before the Elf move at the Theatre begins at 7:30pm\, there will be an Elf costume contest and photo ops.
X-ALT-DESC;FMTTYPE=text/html:<span style="font-size:14px\;">Come get into the holiday spirit at Ho Ho Hoquiam! There will be lots of family fun at this annual event.</span>\n<ul>\n	<li><span style="font-size:14px\;">11am - pictures with Santa at Central School. There will be goodie bags and drawings for a bicycle and toys.</span></li>\n	<li><span style="font-size:14px\;">Grays Harbor Santa at 7th Street Theatre lobby from 4pm - 6pm.</span></li>\n	<li><span style="font-size:14px\;">Caroling in front of the Theatre at 7pm.</span></li>\n	<li><span style="font-size:14px\;">Before the Elf move at the Theatre begins at 7:30pm\, there will be an Elf costume contest and photo ops.&nbsp\;</span></li>\n</ul>\n
LOCATION:Hoquiam
UID:e.26.12302
SEQUENCE:3
DTSTAMP:20260424T025552Z
URL:https://chamber.graysharbor.org/events/details/ho-ho-hoquiam-12-07-2019-12302
END:VEVENT

END:VCALENDAR
