BEGIN:VCALENDAR
VERSION:2.0
PRODID:-//ChamberMaster//Event Calendar 2.0//EN
METHOD:PUBLISH
X-PUBLISHED-TTL:P3D
REFRESH-INTERVAL:P3D
CALSCALE:GREGORIAN
BEGIN:VEVENT
DTSTART:20171203T000000Z
DTEND:20171203T030000Z
X-MICROSOFT-CDO-ALLDAYEVENT:FALSE
SUMMARY:Ho Ho Hoquiam
DESCRIPTION:Join the HBA and local businesses for a day of activities in Hoquiam!\n\n\n\nThe day starts with the Ho Ho Hoquiam Fun Run starting at City Hall. Check-in at 9am\, with the run starting at 10am.\n\n\n\nSanta arrives at 4pm at the 7th Street Theatre! Pick up a free cup of hot chocolate and take a Cocoa Stroll for the Festival of Trees.\n\nBusinesses throughout Hoquiam will have trees inside\, and you get to vote on your favorites.\n\n\n\nReturn to the 7th Street with your ballot for a FREE commemorative ornament and Christmas carols and the debut of the Hoquiam Singing Christmas Tree! This giant tree will be lined with local singers!\n\n\n\nIt all culminates with A Christmas Story inside the theatre at 7:30!\n\n\n\nIt's the most wonderful time of the year\, in the Friendliest City in the World!
X-ALT-DESC;FMTTYPE=text/html:<span style="color: rgb(75\, 79\, 86)\; font-family: Helvetica\, Arial\, sans-serif\; font-size: 14px\; background-color: rgb(255\, 255\, 255)\;">Join the HBA and local businesses for a day of activities in Hoquiam!</span><br style="color: rgb(75\, 79\, 86)\; font-family: Helvetica\, Arial\, sans-serif\; font-size: 14px\; background-color: rgb(255\, 255\, 255)\;" />\n<br style="color: rgb(75\, 79\, 86)\; font-family: Helvetica\, Arial\, sans-serif\; font-size: 14px\; background-color: rgb(255\, 255\, 255)\;" />\n<span style="color: rgb(75\, 79\, 86)\; font-family: Helvetica\, Arial\, sans-serif\; font-size: 14px\; background-color: rgb(255\, 255\, 255)\;">The day starts with the Ho Ho Hoquiam Fun Run starting at City Hall. Check-in at 9am\, with the run starting at 10am.</span><br style="color: rgb(75\, 79\, 86)\; font-family: Helvetica\, Arial\, sans-serif\; font-size: 14px\; background-color: rgb(255\, 255\, 255)\;" />\n<br style="color: rgb(75\, 79\, 86)\; font-family: Helvetica\, Arial\, sans-serif\; font-size: 14px\; background-color: rgb(255\, 255\, 255)\;" />\n<span style="color: rgb(75\, 79\, 86)\; font-family: Helvetica\, Arial\, sans-serif\; font-size: 14px\; background-color: rgb(255\, 255\, 255)\;">Santa arrives at 4pm at the&nbsp\;</span><a data-hovercard="/ajax/hovercard/page.php?id=66436862323&amp\;extragetparams=%7B%22directed_target_id%22%3A336836403457447%7D" data-hovercard-prefer-more-content-show="1" href="https://www.facebook.com/7thstreettheatre/" style="color: rgb(54\, 88\, 153)\; cursor: pointer\; text-decoration-line: none\; font-family: Helvetica\, Arial\, sans-serif\; font-size: 14px\; background-color: rgb(255\, 255\, 255)\;">7th Street Theatre</a><span style="color: rgb(75\, 79\, 86)\; font-family: Helvetica\, Arial\, sans-serif\; font-size: 14px\; background-color: rgb(255\, 255\, 255)\;">! Pick up a free cup of hot chocolate and take a Cocoa Stroll for the Festival of Trees.</span><br style="color: rgb(75\, 79\, 86)\; font-family: Helvetica\, Arial\, sans-serif\; font-size: 14px\; background-color: rgb(255\, 255\, 255)\;" />\n<span style="color: rgb(75\, 79\, 86)\; font-family: Helvetica\, Arial\, sans-serif\; font-size: 14px\; background-color: rgb(255\, 255\, 255)\;">Businesses throughout Hoquiam will have trees inside\, and you get to vote on your favorites.</span><br style="color: rgb(75\, 79\, 86)\; font-family: Helvetica\, Arial\, sans-serif\; font-size: 14px\; background-color: rgb(255\, 255\, 255)\;" />\n<br style="color: rgb(75\, 79\, 86)\; font-family: Helvetica\, Arial\, sans-serif\; font-size: 14px\; background-color: rgb(255\, 255\, 255)\;" />\n<span style="color: rgb(75\, 79\, 86)\; font-family: Helvetica\, Arial\, sans-serif\; font-size: 14px\; background-color: rgb(255\, 255\, 255)\;">Return to the 7th Street with your ballot for a FREE commemorative ornament and Christmas carols and the debut of the Hoquiam Singing Christmas Tree! This giant tree will be lined with local singers!</span><br style="color: rgb(75\, 79\, 86)\; font-family: Helvetica\, Arial\, sans-serif\; font-size: 14px\; background-color: rgb(255\, 255\, 255)\;" />\n<br style="color: rgb(75\, 79\, 86)\; font-family: Helvetica\, Arial\, sans-serif\; font-size: 14px\; background-color: rgb(255\, 255\, 255)\;" />\n<span style="color: rgb(75\, 79\, 86)\; font-family: Helvetica\, Arial\, sans-serif\; font-size: 14px\; background-color: rgb(255\, 255\, 255)\;">It all culminates with A Christmas Story inside the theatre at 7:30!</span><br style="color: rgb(75\, 79\, 86)\; font-family: Helvetica\, Arial\, sans-serif\; font-size: 14px\; background-color: rgb(255\, 255\, 255)\;" />\n<br style="color: rgb(75\, 79\, 86)\; font-family: Helvetica\, Arial\, sans-serif\; font-size: 14px\; background-color: rgb(255\, 255\, 255)\;" />\n<span style="color: rgb(75\, 79\, 86)\; font-family: Helvetica\, Arial\, sans-serif\; font-size: 14px\; background-color: rgb(255\, 255\, 255)\;">It&#39\;s the most wonderful time of the year\, in the Friendliest City in the World!</span>
LOCATION:Hoquiam
UID:e.26.8373
SEQUENCE:3
DTSTAMP:20260425T163801Z
URL:https://chamber.graysharbor.org/events/details/ho-ho-hoquiam-8373
END:VEVENT

END:VCALENDAR
