BEGIN:VCALENDAR
VERSION:2.0
PRODID:-//ChamberMaster//Event Calendar 2.0//EN
METHOD:PUBLISH
X-PUBLISHED-TTL:P3D
REFRESH-INTERVAL:P3D
CALSCALE:GREGORIAN
BEGIN:VEVENT
DTSTART:20171203T190000Z
DTEND:20171204T000000Z
X-MICROSOFT-CDO-ALLDAYEVENT:FALSE
SUMMARY:Holiday Bazaar at Town Hall
DESCRIPTION:HOLIDAY BAZAAR | DECEMBER 3 | 11AM-4PM | TOWN HALL |\n\n\n\nLocal artists and crafters join in the Town Hall selling their unique and hand made goods for the holidays! Come and find that perfect one of a kind gift for your loved ones\, while supporting local talent!
X-ALT-DESC;FMTTYPE=text/html:<span style="margin: 0px\; outline: none 0px\; padding: 0px\; color: rgb(57\, 79\, 90)\; font-family: Ubuntu\, arial\, sans-serif\; font-size: 14px\; background-color: rgb(246\, 247\, 247)\;">HOLIDAY BAZAAR | DECEMBER 3 | 11AM-4PM | TOWN HALL |</span><br style="margin: 0px\; outline: none 0px\; padding: 0px\; color: rgb(57\, 79\, 90)\; font-family: Ubuntu\, arial\, sans-serif\; font-size: 14px\; background-color: rgb(246\, 247\, 247)\;" />\n<br style="margin: 0px\; outline: none 0px\; padding: 0px\; color: rgb(57\, 79\, 90)\; font-family: Ubuntu\, arial\, sans-serif\; font-size: 14px\; background-color: rgb(246\, 247\, 247)\;" />\n<span style="margin: 0px\; outline: none 0px\; padding: 0px\; color: rgb(57\, 79\, 90)\; font-family: Ubuntu\, arial\, sans-serif\; font-size: 14px\; background-color: rgb(246\, 247\, 247)\;">Local artists and crafters join in the Town Hall selling their unique and hand made goods for the holidays! Come and find that perfect one of a kind gift for your loved ones\, while supporting local talent!&nbsp\;</span>
LOCATION:Town Hall in Seabrook Pacific Beach
UID:e.26.8343
SEQUENCE:3
DTSTAMP:20260425T163801Z
URL:https://chamber.graysharbor.org/events/details/holiday-bazaar-at-town-hall-8343
END:VEVENT

END:VCALENDAR
