BEGIN:VCALENDAR
VERSION:2.0
PRODID:-//ChamberMaster//Event Calendar 2.0//EN
METHOD:PUBLISH
X-PUBLISHED-TTL:P3D
REFRESH-INTERVAL:P3D
CALSCALE:GREGORIAN
BEGIN:VEVENT
DTSTART:20191207T020000Z
DTEND:20191207T030000Z
X-MICROSOFT-CDO-ALLDAYEVENT:FALSE
SUMMARY:Holiday Cookie Class
DESCRIPTION:Come learn the art of royal icing! Each student will receive 6 sugar cookies to decorate with supplies and instruction from your favorite bakers! Full menu and drinks will be available for purchase. All ages welcome! Must RSVP by Tuesday\, December 3rd!
X-ALT-DESC;FMTTYPE=text/html:<span style="caret-color: rgb(29\, 33\, 41)\; color: rgb(29\, 33\, 41)\; font-family: system-ui\, -apple-system\, BlinkMacSystemFont\, &quot\;.SFNSText-Regular&quot\;\, sans-serif\; font-size: 14px\; white-space: pre-wrap\;">Come learn the art of royal icing! Each student will receive 6 sugar cookies to decorate with supplies and instruction from your favorite bakers! Full menu and drinks will be available for purchase. All ages welcome! Must RSVP by Tuesday\, December 3rd! </span>
LOCATION:pin Brunch 101 716 Simpson Ave Hoquiam\, Wa 98550
UID:e.26.12281
SEQUENCE:3
DTSTAMP:20260424T024911Z
URL:https://chamber.graysharbor.org/events/details/holiday-cookie-class-12281
END:VEVENT

END:VCALENDAR
