BEGIN:VCALENDAR
VERSION:2.0
PRODID:-//ChamberMaster//Event Calendar 2.0//EN
METHOD:PUBLISH
X-PUBLISHED-TTL:P3D
REFRESH-INTERVAL:P3D
CALSCALE:GREGORIAN
BEGIN:VEVENT
DTSTART;VALUE=DATE:20171216
DTEND;VALUE=DATE:20171218
TRANSP:TRANSPARENT
X-MICROSOFT-CDO-ALLDAYEVENT:TRUE
SUMMARY:Holiday Inn (1942)
DESCRIPTION:Dec 16 & 17 at the 7th Street Theatre.\n\nTickets are $6 and can be found at City Drug\, Crown Drug\, Harbor Drug and online.\n\n\n\nLovely Linda Mason has crooner Jim Hardy head over heels\, but suave stepper Ted Hanover wants her for his new dance partner after femme fatale Lila Dixon gives him the brush. Jim's supper club\, Holiday Inn\, is the setting for the chase by Hanover and manager Danny Reed. The music's the thing.\n\n\n\nStarring Bing Crosby\, Fred Astaire\, and Marjorie Reynolds. \n\n\n\nLocally sponsored by Coleman Mortuary\, Wunderland Childcare\, Rick Anderson\, Twibell's Fern Hill Funeral Home\, Hanner Enterprises/McDonald's\, Pasha Automotive Services\, Phil and Colleen Hull\, Christal Clear Cleaning\, Jodesha Broadcasting and Alpha Media Grays Harbor.
X-ALT-DESC;FMTTYPE=text/html:<span style="color: rgb(75\, 79\, 86)\; font-family: Helvetica\, Arial\, sans-serif\; font-size: 14px\; background-color: rgb(255\, 255\, 255)\;">Dec 16 &amp\; 17 at the 7th Street Theatre.</span><br style="color: rgb(75\, 79\, 86)\; font-family: Helvetica\, Arial\, sans-serif\; font-size: 14px\; background-color: rgb(255\, 255\, 255)\;" />\n<span style="color: rgb(75\, 79\, 86)\; font-family: Helvetica\, Arial\, sans-serif\; font-size: 14px\; background-color: rgb(255\, 255\, 255)\;">Tickets are $6 and can be found at City Drug\, Crown Drug\, Harbor Drug and online.</span><br style="color: rgb(75\, 79\, 86)\; font-family: Helvetica\, Arial\, sans-serif\; font-size: 14px\; background-color: rgb(255\, 255\, 255)\;" />\n<br style="color: rgb(75\, 79\, 86)\; font-family: Helvetica\, Arial\, sans-serif\; font-size: 14px\; background-color: rgb(255\, 255\, 255)\;" />\n<span style="color: rgb(75\, 79\, 86)\; font-family: Helvetica\, Arial\, sans-serif\; font-size: 14px\; background-color: rgb(255\, 255\, 255)\;">Lovely Linda Mason has crooner Jim Hardy head over heels\, but suave stepper Ted Hanover wants her for his new dance partner after femme fatale Lila Dixon gives him the brush. Jim&#39\;s supper club\, Holiday Inn\, is the setting for the chase by Hanover and manager Danny Reed. The music&#39\;s the thing.</span><br style="color: rgb(75\, 79\, 86)\; font-family: Helvetica\, Arial\, sans-serif\; font-size: 14px\; background-color: rgb(255\, 255\, 255)\;" />\n<br style="color: rgb(75\, 79\, 86)\; font-family: Helvetica\, Arial\, sans-serif\; font-size: 14px\; background-color: rgb(255\, 255\, 255)\;" />\n<span style="color: rgb(75\, 79\, 86)\; font-family: Helvetica\, Arial\, sans-serif\; font-size: 14px\; background-color: rgb(255\, 255\, 255)\;">Starring Bing Crosby\, Fred Astaire\, and Marjorie Reynolds.&nbsp\;</span><br style="color: rgb(75\, 79\, 86)\; font-family: Helvetica\, Arial\, sans-serif\; font-size: 14px\; background-color: rgb(255\, 255\, 255)\;" />\n<br style="color: rgb(75\, 79\, 86)\; font-family: Helvetica\, Arial\, sans-serif\; font-size: 14px\; background-color: rgb(255\, 255\, 255)\;" />\n<span style="color: rgb(75\, 79\, 86)\; font-family: Helvetica\, Arial\, sans-serif\; font-size: 14px\; background-color: rgb(255\, 255\, 255)\;">Locally sponsored by Coleman Mortuary\, Wunderland Childcare\, Rick Anderson\, Twibell&#39\;s Fern Hill Funeral Home\, Hanner Enterprises/McDonald&#39\;s\, Pasha Automotive Services\, Phil and Colleen Hull\, Christal Clear Cleaning\, Jodesha Broadcasting and Alpha Media Grays Harbor.</span>
LOCATION:7th Street Theatre Hoquiam\, WA
UID:e.26.9393
SEQUENCE:3
DTSTAMP:20260425T163801Z
URL:https://chamber.graysharbor.org/events/details/holiday-inn-1942-9393
END:VEVENT

END:VCALENDAR
