BEGIN:VCALENDAR
VERSION:2.0
PRODID:-//ChamberMaster//Event Calendar 2.0//EN
METHOD:PUBLISH
X-PUBLISHED-TTL:P3D
REFRESH-INTERVAL:P3D
CALSCALE:GREGORIAN
BEGIN:VEVENT
DTSTART:20191207T190000Z
DTEND:20191208T000000Z
X-MICROSOFT-CDO-ALLDAYEVENT:FALSE
SUMMARY:Holiday Market with Brass Hub
DESCRIPTION:Join Brass Hub Coffeebar for cookies\, holiday vendors\, and a cheery atmosphere!! Handmade signs\, natural skincare\, baking mixes\, NEW inventory and sales at Juniper Tree and MORE!
X-ALT-DESC;FMTTYPE=text/html:<span style="caret-color: rgb(29\, 33\, 41)\; color: rgb(29\, 33\, 41)\; font-family: system-ui\, -apple-system\, BlinkMacSystemFont\, &quot\;.SFNSText-Regular&quot\;\, sans-serif\; font-size: 14px\; white-space: pre-wrap\;">Join Brass Hub Coffeebar for cookies\, holiday vendors\, and a cheery atmosphere!! Handmade signs\, natural skincare\, baking mixes\, NEW inventory and sales at Juniper Tree and MORE!</span>
LOCATION:pin Juniper Tree 1101 1st Street\, Cosmopolis\, Washington 98537
UID:e.26.12289
SEQUENCE:3
DTSTAMP:20260424T000442Z
URL:https://chamber.graysharbor.org/events/details/holiday-market-with-brass-hub-12289
END:VEVENT

END:VCALENDAR
