BEGIN:VCALENDAR
VERSION:2.0
PRODID:-//ChamberMaster//Event Calendar 2.0//EN
METHOD:PUBLISH
X-PUBLISHED-TTL:P3D
REFRESH-INTERVAL:P3D
CALSCALE:GREGORIAN
BEGIN:VEVENT
DTSTART:20171209T180000Z
DTEND:20171209T230000Z
X-MICROSOFT-CDO-ALLDAYEVENT:FALSE
SUMMARY:Holiday Open House
DESCRIPTION:Grab some Spiced Apple Cider from Nancy at the front counter\, tour the Artist booths for new holiday items\, and come back to the Deli for goodies prepared by the vendors & made from Market products!
X-ALT-DESC;FMTTYPE=text/html:<span style="color: rgb(75\, 79\, 86)\; font-family: Helvetica\, Arial\, sans-serif\; font-size: 14px\; background-color: rgb(255\, 255\, 255)\;">Grab some Spiced Apple Cider from Nancy at the front counter\, tour the Artist booths for new holiday items\, and come back to the Deli for goodies prepared by the vendors &amp\; made from Market products!</span>
LOCATION:Grays Harbor Farmers Market 1985 Riverside Ave. Hoquiam\, WA
UID:e.26.8372
SEQUENCE:3
DTSTAMP:20260425T163616Z
URL:https://chamber.graysharbor.org/events/details/holiday-open-house-8372
END:VEVENT

END:VCALENDAR
