BEGIN:VCALENDAR
VERSION:2.0
PRODID:-//ChamberMaster//Event Calendar 2.0//EN
METHOD:PUBLISH
X-PUBLISHED-TTL:P3D
REFRESH-INTERVAL:P3D
CALSCALE:GREGORIAN
BEGIN:VEVENT
DTSTART:20171216T030000Z
DTEND:20171216T040000Z
X-MICROSOFT-CDO-ALLDAYEVENT:FALSE
SUMMARY:Holiday Pet Contest
DESCRIPTION:Dress up Fido or Fluffy in their Holiday finest and bring them to Oyhut Bay for our pet parade and costume contest.\n\nHosted by KOSW -FM\n\nPrizes will be given out to the top winners and a great photo spot will be available for you and your fur baby.
X-ALT-DESC;FMTTYPE=text/html:<span style="color: rgb(75\, 79\, 86)\; font-family: Helvetica\, Arial\, sans-serif\; font-size: 14px\; background-color: rgb(255\, 255\, 255)\;">Dress up Fido or Fluffy in their Holiday finest and bring them to Oyhut Bay for our pet parade and costume contest.</span><br style="color: rgb(75\, 79\, 86)\; font-family: Helvetica\, Arial\, sans-serif\; font-size: 14px\; background-color: rgb(255\, 255\, 255)\;" />\n<span style="color: rgb(75\, 79\, 86)\; font-family: Helvetica\, Arial\, sans-serif\; font-size: 14px\; background-color: rgb(255\, 255\, 255)\;">Hosted by KOSW -FM</span><br style="color: rgb(75\, 79\, 86)\; font-family: Helvetica\, Arial\, sans-serif\; font-size: 14px\; background-color: rgb(255\, 255\, 255)\;" />\n<span style="color: rgb(75\, 79\, 86)\; font-family: Helvetica\, Arial\, sans-serif\; font-size: 14px\; background-color: rgb(255\, 255\, 255)\;">Prizes will be given out to the top winners and a great photo spot will be available for you and your fur baby.</span>
LOCATION:Oyhut Bay 400 Salmonberry Lane SW Ocean Shores\, WA
UID:e.26.8391
SEQUENCE:3
DTSTAMP:20260425T163813Z
URL:https://chamber.graysharbor.org/events/details/holiday-pet-contest-8391
END:VEVENT

END:VCALENDAR
