BEGIN:VCALENDAR
VERSION:2.0
PRODID:-//ChamberMaster//Event Calendar 2.0//EN
METHOD:PUBLISH
X-PUBLISHED-TTL:P3D
REFRESH-INTERVAL:P3D
CALSCALE:GREGORIAN
BEGIN:VEVENT
DTSTART;VALUE=DATE:20170520
DTEND;VALUE=DATE:20170522
TRANSP:TRANSPARENT
X-MICROSOFT-CDO-ALLDAYEVENT:TRUE
SUMMARY:Home and Garden Show
DESCRIPTION:Are you thinking of a new backyard? Maybe you're thinking of a new front yard? Or maybe you just want to add a little color? \n\n \n\nThe Grays Harbor County Fair & Events Centers Master Gardeners Foundation of Grays Harbor and Pacific Counties Home & Garden Show will be the place to be for all of that and much more! From sheds\, to shrubs\, to flowers\, or even decorative items\, the Home and Garden show will have it!
X-ALT-DESC;FMTTYPE=text/html:<p style="margin: 0in 0in 0pt\;"><span data-redactor-style="font-family: &quot\;Calibri&quot\;\,&quot\;sans-serif&quot\;\;" style="font-family: &quot\;Calibri&quot\;\,&quot\;sans-serif&quot\;\;">Are you thinking of a new backyard? Maybe you&rsquo\;re thinking of a new front yard? Or maybe you just want to add a little color? </span></p>\n\n<p style="margin: 0in 0in 0pt\;">&nbsp\;</p>\n\n<p style="margin: 0in 0in 0pt\;"><span data-redactor-style="font-family: &quot\;Calibri&quot\;\,&quot\;sans-serif&quot\;\;" style="font-family: &quot\;Calibri&quot\;\,&quot\;sans-serif&quot\;\;">The Grays Harbor County Fair &amp\; Events Centers Master Gardeners Foundation of Grays Harbor and Pacific Counties Home &amp\; Garden Show will be the place to be for all of that and much more! From sheds\, to shrubs\, to flowers\, or even decorative items\, the Home and Garden show will have it! </span></p>\n
LOCATION:Grays Harbor County Fairgrounds Elma\, WA
UID:e.26.6463
SEQUENCE:3
DTSTAMP:20260426T032903Z
URL:https://chamber.graysharbor.org/events/details/home-and-garden-show-6463
END:VEVENT

END:VCALENDAR
