BEGIN:VCALENDAR
VERSION:2.0
PRODID:-//ChamberMaster//Event Calendar 2.0//EN
METHOD:PUBLISH
X-PUBLISHED-TTL:P3D
REFRESH-INTERVAL:P3D
CALSCALE:GREGORIAN
BEGIN:VEVENT
DTSTART:20190615T170000Z
DTEND:20190615T210000Z
X-MICROSOFT-CDO-ALLDAYEVENT:FALSE
SUMMARY:Home Fire Campaign/Sound the Alarm
DESCRIPTION:The American Red Cross is teaming up with Timberland Bank\, the City of Hoquiam\, and Jodesha Broadcasting to provide and install smoke alarms in homes that need them. Primary focus on this date will be Hoquiam\, but if your home needs a smoke alarm(s) sign up at GetaSmokeAlarm.org or call 1-877-686-1242 and we'll get to you soon!
X-ALT-DESC;FMTTYPE=text/html:The American Red Cross is teaming up with Timberland Bank\, the City of Hoquiam\, and Jodesha Broadcasting to provide and install smoke alarms in homes that need them. Primary focus on this date will be Hoquiam\, but if your home needs a smoke alarm(s) sign up at GetaSmokeAlarm.org or call 1-877-686-1242 and we&#39\;ll get to you soon!
LOCATION:Grays Harbor
UID:e.26.12045
SEQUENCE:3
DTSTAMP:20260424T120216Z
URL:https://chamber.graysharbor.org/events/details/home-fire-campaign-sound-the-alarm-12045
END:VEVENT

END:VCALENDAR
