BEGIN:VCALENDAR
VERSION:2.0
PRODID:-//ChamberMaster//Event Calendar 2.0//EN
METHOD:PUBLISH
X-PUBLISHED-TTL:P3D
REFRESH-INTERVAL:P3D
CALSCALE:GREGORIAN
BEGIN:VEVENT
DTSTART:20180428T180000Z
DTEND:20180428T230000Z
X-MICROSOFT-CDO-ALLDAYEVENT:FALSE
SUMMARY:Home Tweet Home
DESCRIPTION:Habitat for Humanity of Grays Harbor's Home Tweet Home Bird House Building Event. All ages fun. 1 bird house $15 2 bird houses $25 All profits to support Habitat's Critical Home Repair Program
X-ALT-DESC;FMTTYPE=text/html:Habitat for Humanity of Grays Harbor&#39\;s Home Tweet Home Bird House Building Event. All ages fun. 1 bird house $15 2 bird houses $25 All profits to support Habitat&#39\;s Critical Home Repair Program
LOCATION:Shoppes at Riverside Inside the mall near the fun center 1017 S. Boone St. Aberdeen\, Wa 98520
UID:e.26.10607
SEQUENCE:3
DTSTAMP:20260425T113450Z
URL:https://chamber.graysharbor.org/events/details/home-tweet-home-10607
END:VEVENT

END:VCALENDAR
