BEGIN:VCALENDAR
VERSION:2.0
PRODID:-//ChamberMaster//Event Calendar 2.0//EN
METHOD:PUBLISH
X-PUBLISHED-TTL:P3D
REFRESH-INTERVAL:P3D
CALSCALE:GREGORIAN
BEGIN:VEVENT
DTSTART:20171216T180000Z
DTEND:20171217T010000Z
X-MICROSOFT-CDO-ALLDAYEVENT:FALSE
SUMMARY:Hometown Holiday Bazaar
DESCRIPTION:The WA Modified Dolls & Harbor Square \n\nbring you\n\nA HOMETOWN HOLIDAY BAZAAR\n\nOver 30 Vendors\, Crafters\, and Small businesses. Plus Raffles\, Treats for the kids\, Toys for Tots fundraiser\, Blue Boar Burger\, Cakes by Deanna\, All Wrapped Up Coffee & Santa.\n\n\n\nEnjoy some coffee and a Cinnamon roll from All Wrapped up while you spend the morning shopping for just the right gift. Or come for lunch at Blue Boar Burger and get the kids pictures with Santa (1-3pm). Don't forget to stop by The Modified Dolls booth and pick up some raffle tickets for the Toys for Tots fundraiser.\n\n\n\nThe Modified Dolls will also be accepting toy donations from Nov 14th to Dec 14th at Gargoyle Tattoo 115 South H St\, Aberdeen\, WA 98520\n\n\n\n	Christmas\n	Fundraising
X-ALT-DESC;FMTTYPE=text/html:<div class="_2qgs" style="color: rgb(75\, 79\, 86)\; padding: 12px\; position: relative\; border-top: none\; font-family: Helvetica\, Arial\, sans-serif\; font-size: 12px\;"><span class="_4n-j _3cht fsl" data-testid="event-permalink-details" style="font-size: 14px\; font-family: inherit\;">The WA Modified Dolls &amp\; Harbor Square&nbsp\;<br />\nbring you<br />\nA HOMETOWN HOLIDAY BAZAAR<br />\nOver 30 Vendors\, Crafters\, and Small businesses. Plus Raffles\, Treats for the kids\, Toys for Tots fundraiser\, Blue Boar Burger\, Cakes by Deanna\, All Wrapped Up Coffee &amp\; Santa.<br />\n<br />\nEnjoy some coffee and a Cinnamon roll from All Wrapped up while you spend the morning shopping for just the right gift. Or come for lunch at Blue Boar Burger and get the kids pictures with Santa (1-3pm). Don&#39\;t forget to stop by The Modified Dolls booth and pick up some raffle tickets for the Toys for Tots fundraiser.<br />\n<br />\nThe Modified Dolls will also be accepting toy donations from Nov 14th to Dec 14th at Gargoyle Tattoo 115 South H St\, Aberdeen\, WA 98520</span></div>\n\n<div class="_1r51" style="line-height: 24px\; margin: 4px 12px 12px\; min-height: 24px\; font-family: Helvetica\, Arial\, sans-serif\; color: rgb(29\, 33\, 41)\; font-size: 12px\;">\n<ul class="uiList uiCollapsedList uiCollapsedListHidden _509- _4ki" id="u_jsonp_6_l" style="list-style-type: none\; margin: 0px\; padding: 0px\;">\n	<li style="border-width: 0px\; display: inline-block\; vertical-align: top\;"><a href="https://www.facebook.com/events/discovery/?acontext=%7B%22ref%22%3A44%2C%22unit_ref%22%3A%22related_events%22%2C%22source%22%3A1%2C%22action_history%22%3A%22%5B%7B%5C%22surface%5C%22%3A%5C%22permalink%5C%22%2C%5C%22mechanism%5C%22%3A%5C%22RHC%5C%22%2C%5C%22extra_data%5C%22%3A%5B%5D%7D%2C%7B%5C%22surface%5C%22%3A%5C%22permalink%5C%22%2C%5C%22mechanism%5C%22%3A%5C%22surface%5C%22%2C%5C%22extra_data%5C%22%3A%5B%5D%7D%2C%7B%5C%22surface%5C%22%3A%5C%22permalink%5C%22%2C%5C%22mechanism%5C%22%3A%5C%22event_information%5C%22%2C%5C%22extra_data%5C%22%3A%7B%5C%22tag%5C%22%3A%5C%22Christmas%5C%22%7D%7D%5D%22%2C%22has_source%22%3Atrue%7D&amp\;suggestion_token=%7B%22tags%22%3A%5B1612311898780863%5D%7D" style="color: rgb(54\, 88\, 153)\; cursor: pointer\; text-decoration-line: none\; font-family: inherit\;"><span class="_47od" style="background-color: rgb(237\, 242\, 250)\; border-radius: 2px\; color: rgb(32\, 55\, 95)\; display: block\; height: 14px\; line-height: 14px\; margin: 0px 4px 4px 0px\; padding: 4px 6px\; position: relative\; font-family: inherit\;">Christmas</span></a></li>\n	<li style="border-width: 0px 0px 0px 1px\; display: inline-block\; vertical-align: top\;"><a href="https://www.facebook.com/events/discovery/?acontext=%7B%22ref%22%3A44%2C%22unit_ref%22%3A%22related_events%22%2C%22source%22%3A1%2C%22action_history%22%3A%22%5B%7B%5C%22surface%5C%22%3A%5C%22permalink%5C%22%2C%5C%22mechanism%5C%22%3A%5C%22RHC%5C%22%2C%5C%22extra_data%5C%22%3A%5B%5D%7D%2C%7B%5C%22surface%5C%22%3A%5C%22permalink%5C%22%2C%5C%22mechanism%5C%22%3A%5C%22surface%5C%22%2C%5C%22extra_data%5C%22%3A%5B%5D%7D%2C%7B%5C%22surface%5C%22%3A%5C%22permalink%5C%22%2C%5C%22mechanism%5C%22%3A%5C%22event_information%5C%22%2C%5C%22extra_data%5C%22%3A%7B%5C%22tag%5C%22%3A%5C%22Fundraising%5C%22%7D%7D%5D%22%2C%22has_source%22%3Atrue%7D&amp\;suggestion_token=%7B%22tags%22%3A%5B1551479691544002%5D%7D" style="color: rgb(54\, 88\, 153)\; cursor: pointer\; text-decoration-line: none\; font-family: inherit\;"><span class="_47od" style="background-color: rgb(237\, 242\, 250)\; border-radius: 2px\; color: rgb(32\, 55\, 95)\; display: block\; height: 14px\; line-height: 14px\; margin: 0px 4px 4px 0px\; padding: 4px 6px\; position: relative\; font-family: inherit\;">Fundraising</span></a></li>\n</ul>\n</div>\n
LOCATION:Harbor Square Aberdeen
UID:e.26.8336
SEQUENCE:3
DTSTAMP:20260425T163616Z
URL:https://chamber.graysharbor.org/events/details/hometown-holiday-bazaar-8336
END:VEVENT

END:VCALENDAR
