BEGIN:VCALENDAR
VERSION:2.0
PRODID:-//ChamberMaster//Event Calendar 2.0//EN
METHOD:PUBLISH
X-PUBLISHED-TTL:P3D
REFRESH-INTERVAL:P3D
CALSCALE:GREGORIAN
BEGIN:VEVENT
DTSTART;VALUE=DATE:20200725
DTEND;VALUE=DATE:20200726
TRANSP:TRANSPARENT
X-MICROSOFT-CDO-ALLDAYEVENT:TRUE
SUMMARY:Hometown Teams Tailgating Party
DESCRIPTION:The Smithsonian is in town and we're inviting you to show your "Hometown Teams" sports enthusiasm this July 25! Following the state's COVID-19 requirements for drive-in movie theaters\, we're inviting you to bring your vehicle to the Polson Museum lawns for some tailgating fun. Vehicles will be spaced 10' apart and tailgaters will be required to wear masks when away from their own vehicles.\n\n\n\nHave some fun and dust off your favorite fan apparel to show your team spirit no matter your sport of choice. Bring your BBQ and cooler\, hoist a team flag\, wear that letterman's jacket buried in the closet.... we're hoping folks will have some physically-distanced fun with this to celebrate our current exhibit "Hometown Teams: How Sports Shape America". Admission to the museum is still free-of-charge all of July and tailgaters will be able to see the exhibit on a timed basis throughout the day on July 25. As luck would have it\, the Mariners first weekend game of the season starts at 1:10 p.m. on July 25 and you can be rest assured we'll have KXRO's play-by-play on the radio that afternoon! Please share this with your friends and lets have some post-quarantine fun!
X-ALT-DESC;FMTTYPE=text/html:<span style="caret-color: rgb(29\, 33\, 41)\; color: rgb(29\, 33\, 41)\; font-family: system-ui\, -apple-system\, BlinkMacSystemFont\, &quot\;.SFNSText-Regular&quot\;\, sans-serif\; font-size: 14px\; white-space: pre-wrap\;">The Smithsonian is in town and we&#39\;re inviting you to show your &quot\;Hometown Teams&quot\; sports enthusiasm this July 25! Following the state&#39\;s COVID-19 requirements for drive-in movie theaters\, we&#39\;re inviting you to bring your vehicle to the Polson Museum lawns for some tailgating fun. Vehicles will be spaced 10&#39\; apart and tailgaters will be required to wear masks when away from their own vehicles.<br />\n<br />\nHave some fun and dust off your favorite fan apparel to show your team spirit no matter your sport of choice. Bring your BBQ and cooler\, hoist a team flag\, wear that letterman&#39\;s jacket buried in the closet.... we&#39\;re hoping folks will have some physically-distanced fun with this to celebrate our current exhibit &quot\;Hometown Teams: How Sports Shape America&quot\;. Admission to the museum is still free-of-charge all of July and tailgaters will be able to see the exhibit on a timed basis throughout the day on July 25. As luck would have it\, the Mariners first weekend game of the season starts at 1:10 p.m. on July 25 and you can be rest assured we&#39\;ll have KXRO&#39\;s play-by-play on the radio that afternoon! Please share this with your friends and lets have some post-quarantine fun!</span>
LOCATION:pin Polson Museum 1611 Riverside Ave\, Hoquiam\, Washington 98550
UID:e.26.12482
SEQUENCE:3
DTSTAMP:20260424T115929Z
URL:https://chamber.graysharbor.org/events/details/hometown-teams-tailgating-party-12482
END:VEVENT

END:VCALENDAR
