BEGIN:VCALENDAR
VERSION:2.0
PRODID:-//ChamberMaster//Event Calendar 2.0//EN
METHOD:PUBLISH
X-PUBLISHED-TTL:P3D
REFRESH-INTERVAL:P3D
CALSCALE:GREGORIAN
BEGIN:VEVENT
DTSTART;VALUE=DATE:20190405
DTEND;VALUE=DATE:20190408
TRANSP:TRANSPARENT
X-MICROSOFT-CDO-ALLDAYEVENT:TRUE
SUMMARY:Hoops & Hops
DESCRIPTION:Join the GROZ from ESPN for Hoops & Hops in the Ocean Lounge!\n\nWe will have food and drink specials\, hoops on all of the TV's and big screens PLUS the Final Four on April 6th!
X-ALT-DESC;FMTTYPE=text/html:<h3 style="box-sizing: border-box\; font-family: &quot\;PT Sans&quot\;\, sans-serif\; line-height: 1.5\; color: rgb(17\, 17\, 17)\; margin: 0px 0px 5px\; font-size: 30px\; text-align: center\;"><span style="font-size:14px\;"><span style="font-family:arial\;">Join the GROZ from ESPN for Hoops &amp\; Hops in the Ocean Lounge!</span></span></h3>\n\n<h3 style="box-sizing: border-box\; font-family: &quot\;PT Sans&quot\;\, sans-serif\; line-height: 1.5\; color: rgb(17\, 17\, 17)\; margin: 0px 0px 5px\; font-size: 30px\; text-align: center\;"><span style="font-size:14px\;"><span style="font-family:arial\;">We will have food and drink specials\, hoops on all of the TV&#39\;s and big screens PLUS the Final Four on April 6th!</span></span></h3>\n
LOCATION:Quinault Beach Resort and Casino Ocean Shores\, WA
UID:e.26.11905
SEQUENCE:3
DTSTAMP:20260424T163112Z
URL:https://chamber.graysharbor.org/events/details/hoops-hops-11905
END:VEVENT

END:VCALENDAR
