BEGIN:VCALENDAR
VERSION:2.0
PRODID:-//ChamberMaster//Event Calendar 2.0//EN
METHOD:PUBLISH
X-PUBLISHED-TTL:P3D
REFRESH-INTERVAL:P3D
CALSCALE:GREGORIAN
BEGIN:VEVENT
DTSTART:20171216T011500Z
DTEND:20171216T020000Z
X-MICROSOFT-CDO-ALLDAYEVENT:FALSE
SUMMARY:Hoquiam Brewing Co. Ribbon Cutting
DESCRIPTION:Please join the Greater Grays Harbor Ambassador Team at Hoquiam Brewing Co. this Friday\, Dec. 15th where they will be performing a celebratory ribbon cutting! \n\n\n\nThis new business in downtown Hoquiam brings back the craft of local brewing in Grays Harbor. Come help us celebrate their achievements! \n\n\n\nhttps://www.hoquiambrews.com/
X-ALT-DESC;FMTTYPE=text/html:<span style="color: rgb(75\, 79\, 86)\; font-family: Helvetica\, Arial\, sans-serif\; font-size: 14px\; background-color: rgb(255\, 255\, 255)\;">Please join the Greater Grays Harbor Ambassador Team at Hoquiam Brewing Co. this Friday\, Dec. 15th where they will be performing a celebratory ribbon cutting!&nbsp\;</span><br style="color: rgb(75\, 79\, 86)\; font-family: Helvetica\, Arial\, sans-serif\; font-size: 14px\; background-color: rgb(255\, 255\, 255)\;" />\n<br style="color: rgb(75\, 79\, 86)\; font-family: Helvetica\, Arial\, sans-serif\; font-size: 14px\; background-color: rgb(255\, 255\, 255)\;" />\n<span style="color: rgb(75\, 79\, 86)\; font-family: Helvetica\, Arial\, sans-serif\; font-size: 14px\; background-color: rgb(255\, 255\, 255)\;">This new business in downtown Hoquiam brings back the craft of local brewing in Grays Harbor. Come help us celebrate their achievements!&nbsp\;</span><br style="color: rgb(75\, 79\, 86)\; font-family: Helvetica\, Arial\, sans-serif\; font-size: 14px\; background-color: rgb(255\, 255\, 255)\;" />\n<br style="color: rgb(75\, 79\, 86)\; font-family: Helvetica\, Arial\, sans-serif\; font-size: 14px\; background-color: rgb(255\, 255\, 255)\;" />\n<a data-lynx-mode="async" data-lynx-uri="https://l.facebook.com/l.php?u=https%3A%2F%2Fwww.hoquiambrews.com%2F&amp\;h=ATPERRT9xhgXc8ff50l_7MmxFrRYTHmsAtNaTx4xoJekykZPMlXTQsPfvoLlrBYEJ75nGLwSLI7WiCADN9Ed8SUQnl2_Mee7SX1JTp2h3A1lhrZ9JzB6Ca2hMZO25FsohrZsi-e2ej87z80SIgLj5F-wa7Enq24Ib_rpUQT0q23Ljb0Xs6VauhrN4sHG4s8I" href="https://www.hoquiambrews.com/" rel="nofollow noopener" style="color: rgb(54\, 88\, 153)\; cursor: pointer\; text-decoration-line: none\; font-family: Helvetica\, Arial\, sans-serif\; font-size: 14px\; background-color: rgb(255\, 255\, 255)\;" target="_blank"><span style="font-family: inherit\;">https://</span><wbr />www.hoquiambrews.com/</a>
LOCATION:Hoquiam Brewing Co. Hoquiam\, WA
UID:e.26.9400
SEQUENCE:3
DTSTAMP:20260425T164002Z
URL:https://chamber.graysharbor.org/events/details/hoquiam-brewing-co-ribbon-cutting-9400
END:VEVENT

END:VCALENDAR
