BEGIN:VCALENDAR
VERSION:2.0
PRODID:-//ChamberMaster//Event Calendar 2.0//EN
METHOD:PUBLISH
X-PUBLISHED-TTL:P3D
REFRESH-INTERVAL:P3D
CALSCALE:GREGORIAN
BEGIN:VEVENT
DTSTART:20190808T030000Z
DTEND:20190808T043000Z
X-MICROSOFT-CDO-ALLDAYEVENT:FALSE
SUMMARY:Hoquiam Hilarities - August w/ Susan Jones
DESCRIPTION:The August Edition of Hoquiam Hilarities at Hoquiam Brewery is coming up fast! Get your tickets soon!\n\nIt's almost time for the August edition of Hoquiam Hilarities! This time around they've got a stacked line-up with Travis Nelson hosting\, Bo Johnson featuring\, and Susan Jones headlining!\n\nBo Johnson has been featured on Nick Cannon's Wild N' Out\, Kevin Hart's Hart of the City on Comedy Central\, and Kevin Hart's Gala at the last Just For Laughs Festival in Montreal.\n\nSusan Jones is a recent bride\, dog lover\, Pez collector\, single mom\, strip club DJ\, and survivor of the 80s and 90s. Susan reached almost 600 lbs. and in 2016 started her weight loss mission. She has lost over 200 lbs. so far\, and takes you with her on this journey every pound of the way down. Susan has opened for Dana Carvey\, Rob Schneider\, Brad Garrett\, Jeffery Ross\, Rick Overton\, Chad Prather\, and many more.\n\nSusan recently released her first half hour network special on RideTV. She has also appeared on Up Late NW and JokestersTV. She has recorded a stand-up album called 50 Shades of Gravy. Susan was a regional finalist for NBC Standup\, and has won the Hard Rock comedy contest and JackFM's Funniest Comedian in Washington.
X-ALT-DESC;FMTTYPE=text/html:<p style="margin: 0px\; padding: 0px\; color: rgb(111\, 114\, 135)\; font-size: 0.875rem\; line-height: 1.25rem\; font-family: &quot\;Neue Plak&quot\;\, -apple-system\, BlinkMacSystemFont\, Roboto\, &quot\;Helvetica Neue&quot\;\, Helvetica\, Tahoma\, Arial\, sans-serif\; letter-spacing: 0.5px\;"><span style="color:#000000\;"><span style="font-family:arial\;"><span style="font-size:14px\;"><span style="font-weight: 700\; padding-top: 0px\;">The August Edition of Hoquiam Hilarities at Hoquiam Brewery&nbsp\;is coming up fast! Get your tickets soon!</span></span></span></span></p>\n\n<p style="margin: 0px\; padding: 10px 0px 0px\; color: rgb(111\, 114\, 135)\; font-size: 0.875rem\; line-height: 1.25rem\; font-family: &quot\;Neue Plak&quot\;\, -apple-system\, BlinkMacSystemFont\, Roboto\, &quot\;Helvetica Neue&quot\;\, Helvetica\, Tahoma\, Arial\, sans-serif\; letter-spacing: 0.5px\;"><span style="color:#000000\;"><span style="font-family:arial\;"><span style="font-size:14px\;">It&#39\;s almost time for the August edition of Hoquiam Hilarities! This time around they&#39\;ve got a stacked line-up with Travis Nelson hosting\, Bo Johnson featuring\, and Susan Jones headlining!</span></span></span></p>\n\n<p style="margin: 0px\; padding: 10px 0px 0px\; color: rgb(111\, 114\, 135)\; font-size: 0.875rem\; line-height: 1.25rem\; font-family: &quot\;Neue Plak&quot\;\, -apple-system\, BlinkMacSystemFont\, Roboto\, &quot\;Helvetica Neue&quot\;\, Helvetica\, Tahoma\, Arial\, sans-serif\; letter-spacing: 0.5px\;"><span style="color:#000000\;"><span style="font-family:arial\;"><span style="font-size:14px\;"><em>Bo Johnson</em> has been featured on Nick Cannon&#39\;s Wild N&#39\; Out\, Kevin Hart&#39\;s Hart of the City on Comedy Central\, and Kevin Hart&#39\;s Gala at the last Just For Laughs Festival in Montreal.</span></span></span></p>\n\n<p style="margin: 0px\; padding: 10px 0px 0px\; color: rgb(111\, 114\, 135)\; font-size: 0.875rem\; line-height: 1.25rem\; font-family: &quot\;Neue Plak&quot\;\, -apple-system\, BlinkMacSystemFont\, Roboto\, &quot\;Helvetica Neue&quot\;\, Helvetica\, Tahoma\, Arial\, sans-serif\; letter-spacing: 0.5px\;"><span style="color:#000000\;"><span style="font-family:arial\;"><span style="font-size:14px\;"><em>Susan Jones</em> is a recent bride\, dog lover\, Pez collector\, single mom\, strip club DJ\, and survivor of the 80s and 90s. Susan reached almost 600 lbs. and in 2016 started her weight loss mission. She has lost over 200 lbs. so far\, and takes you with her on this journey every pound of the way down. Susan has opened for Dana Carvey\, Rob Schneider\, Brad Garrett\, Jeffery Ross\, Rick Overton\, Chad Prather\, and many more.</span></span></span></p>\n\n<p style="margin: 0px\; padding: 10px 0px 0px\; color: rgb(111\, 114\, 135)\; font-size: 0.875rem\; line-height: 1.25rem\; font-family: &quot\;Neue Plak&quot\;\, -apple-system\, BlinkMacSystemFont\, Roboto\, &quot\;Helvetica Neue&quot\;\, Helvetica\, Tahoma\, Arial\, sans-serif\; letter-spacing: 0.5px\;"><span style="color:#000000\;"><span style="font-family:arial\;"><span style="font-size:14px\;">Susan recently released her first half hour network special on RideTV. She has also appeared on Up Late NW and JokestersTV. She has recorded a stand-up album called 50 Shades of Gravy. Susan was a regional finalist for NBC Standup\, and has won the Hard Rock comedy contest and JackFM&rsquo\;s Funniest Comedian in Washington.</span></span></span></p>\n
LOCATION:Hoquiam Brewing Co.\, Inc. 526 8th Street Hoquiam\, WA 98550
UID:e.26.12123
SEQUENCE:3
DTSTAMP:20260424T090541Z
URL:https://chamber.graysharbor.org/events/details/hoquiam-hilarities-august-w-susan-jones-12123
END:VEVENT

END:VCALENDAR
