BEGIN:VCALENDAR
VERSION:2.0
PRODID:-//ChamberMaster//Event Calendar 2.0//EN
METHOD:PUBLISH
X-PUBLISHED-TTL:P3D
REFRESH-INTERVAL:P3D
CALSCALE:GREGORIAN
BEGIN:VEVENT
DTSTART:20251111T220000Z
DTEND:20251112T040000Z
X-MICROSOFT-CDO-ALLDAYEVENT:FALSE
SUMMARY:Hoquiam HS Veteran's Day Concert
DESCRIPTION:Please join the Hoquiam High School Band and Hoquiam Middle School and High School Choirs in honoring our nation's veterans and current service members. This is a FREE event.\n\nThis concert includes collaboration with local Girl Scouts and is sure to offer moments of both reflection and celebration.\n\nJoin us as we honor\, thank\, and remember our service members on November 11\, 2025.\n\nMatinee performance at 2pm and evening performance at 7pm.
X-ALT-DESC;FMTTYPE=text/html:<span style="font-family:arial\;"><span style="font-size: 14px\;">Please join the Hoquiam High School Band and Hoquiam Middle School and High School Choirs in honoring our nation&#39\;s veterans and current service members. This is a FREE event.</span><br style="font-family: Poppins\, sans-serif\; font-size: 14px\;" />\n<span style="font-size: 14px\;">This concert includes collaboration with local Girl Scouts and is sure to offer moments of both reflection and celebration.</span><br style="font-family: Poppins\, sans-serif\; font-size: 14px\;" />\n<span style="font-size: 14px\;">Join us as we honor\, thank\, and remember our service members on November 11\, 2025.</span><br style="font-family: Poppins\, sans-serif\; font-size: 14px\;" />\n<span style="font-size: 14px\;">Matinee performance at 2pm and evening performance at 7pm.&nbsp\;</span></span>
LOCATION:7th Street Theatre Hoquiam
UID:e.26.15295
SEQUENCE:3
DTSTAMP:20260423T221846Z
URL:https://chamber.graysharbor.org/events/details/hoquiam-hs-veteran-s-day-concert-15295
END:VEVENT

END:VCALENDAR
