BEGIN:VCALENDAR
VERSION:2.0
PRODID:-//ChamberMaster//Event Calendar 2.0//EN
METHOD:PUBLISH
X-PUBLISHED-TTL:P3D
REFRESH-INTERVAL:P3D
CALSCALE:GREGORIAN
BEGIN:VEVENT
DTSTART:20190907T130000Z
DTEND:20190908T050000Z
X-MICROSOFT-CDO-ALLDAYEVENT:FALSE
SUMMARY:Hoquiam Loggers Playday
DESCRIPTION:Each year the Loggers Playday festival begins with the Rotary Club's Famous Pancake Feed. \nFollowing breakfast\, the vendor fair will run from 10 a.m.   4 p.m. in downtown Hoquiam. There\, enjoy food concessions\, craft vendors\, and other activities to enjoy. \n\nAt noon check out the Elks Lodge Grand Parade as well as the Lions Salmon Bake at 2 p.m.\n\nThe Festival concludes with HOQUIAM RENOWNED LOGGERS SHOW at 6 p.m. at the historic Olympic Stadium. Participants from throughout the Northwest participate in events at the evening logging show.\n\n\n\nThe days festivities conclude with an impressive fireworks display offering great family entertainment!
X-ALT-DESC;FMTTYPE=text/html:<span style="font-size:14px\;"><span style="font-family: arial\; caret-color: rgb(29\, 33\, 41)\; color: rgb(29\, 33\, 41)\; white-space: pre-wrap\;">Each year the Loggers Playday festival begins with the Rotary Club&rsquo\;s Famous Pancake Feed. </span></span>\n<div style="font-family: Arial\, sans-serif\;"><span style="font-size:14px\;"><span style="font-family: arial\; caret-color: rgb(29\, 33\, 41)\; color: rgb(29\, 33\, 41)\; white-space: pre-wrap\;">Following breakfast\, the vendor fair will run from 10 a.m. &ndash\; 4 p.m. in downtown Hoquiam. There\, enjoy food concessions\, craft vendors\, and other activities to enjoy. </span><br style="caret-color: rgb(29\, 33\, 41)\; color: rgb(29\, 33\, 41)\; font-family: system-ui\, -apple-system\, BlinkMacSystemFont\, &quot\;.SFNSText-Regular&quot\;\, sans-serif\; white-space: pre-wrap\;" />\n<span style="font-family: arial\; caret-color: rgb(29\, 33\, 41)\; color: rgb(29\, 33\, 41)\; white-space: pre-wrap\;">At noon check out the Elks Lodge Grand Parade as well as the Lions Salmon Bake at 2 p.m.</span></span><br style="caret-color: rgb(29\, 33\, 41)\; color: rgb(29\, 33\, 41)\; white-space: pre-wrap\;" />\n<span style="font-size:14px\;"><span style="font-family: arial\; caret-color: rgb(29\, 33\, 41)\; color: rgb(29\, 33\, 41)\; white-space: pre-wrap\;">The Festival concludes with HOQUIAM RENOWNED LOGGERS SHOW at 6 p.m. at the historic Olympic Stadium. Participants from throughout the Northwest participate in events at the evening logging show.</span></span></div>\n\n<div style="font-family: Arial\, sans-serif\;"><br style="caret-color: rgb(29\, 33\, 41)\; color: rgb(29\, 33\, 41)\; white-space: pre-wrap\;" />\n<span style="font-size:14px\;"><span style="font-family: arial\; caret-color: rgb(29\, 33\, 41)\; color: rgb(29\, 33\, 41)\; white-space: pre-wrap\;">The days festivities conclude with an impressive fireworks display offering great family entertainment!</span></span></div>\n
LOCATION:Hoquiam\, WA
UID:e.26.12180
SEQUENCE:3
DTSTAMP:20260424T074019Z
URL:https://chamber.graysharbor.org/events/details/hoquiam-loggers-playday-12180
END:VEVENT

END:VCALENDAR
