BEGIN:VCALENDAR
VERSION:2.0
PRODID:-//ChamberMaster//Event Calendar 2.0//EN
METHOD:PUBLISH
X-PUBLISHED-TTL:P3D
REFRESH-INTERVAL:P3D
CALSCALE:GREGORIAN
BEGIN:VEVENT
DTSTART:20190426T203000Z
DTEND:20190426T213000Z
X-MICROSOFT-CDO-ALLDAYEVENT:FALSE
SUMMARY:Hoquiam McDonald's Ribbon Cutting
DESCRIPTION:McDonald's is going to have their grand re-opening next Friday\, April 26th at 1:30 pm! They are just finishing the final touches right now and are excited to celebrate this big day with GGHI and the community. \n\n\n\nRhys Davis will be present from 2 - 4pm\, broadcasting on Sunny 102.1. As part of that remote broadcast\, McDonald's is collecting cans of food for Coastal Harvest\, so if desired\, consider bringing canned items to support the cause and get entered into prize drawings. Also\, for all of next week\, McDonald's is donating 50 cents from every transaction at one of their new kiosks to their neighbors   the YMCA\, so this is the time to indulge in your favorites guilt free.
X-ALT-DESC;FMTTYPE=text/html:<span style="caret-color: rgb(34\, 34\, 34)\; color: rgb(34\, 34\, 34)\; font-family: Arial\, Helvetica\, sans-serif\; font-size: small\;">McDonald&rsquo\;s is going to have their grand re-opening next Friday\, April 26</span><sup style="caret-color: rgb(34\, 34\, 34)\; color: rgb(34\, 34\, 34)\; font-family: Arial\, Helvetica\, sans-serif\;">th</sup><span style="caret-color: rgb(34\, 34\, 34)\; color: rgb(34\, 34\, 34)\; font-family: Arial\, Helvetica\, sans-serif\; font-size: small\;">&nbsp\;at 1:30 pm! They are just finishing the final touches right now and are excited to celebrate this big day with GGHI and the community.&nbsp\;</span><br />\n<br />\n<span style="caret-color: rgb(29\, 33\, 41)\; color: rgb(29\, 33\, 41)\; font-family: system-ui\, -apple-system\, BlinkMacSystemFont\, &quot\;.SFNSText-Regular&quot\;\, sans-serif\; font-size: 14px\; white-space: pre-wrap\;">Rhys Davis will be present from 2 - 4pm\, broadcasting on Sunny 102.1. As part of that remote broadcast\, McDonald&rsquo\;s is collecting cans of food for Coastal Harvest\, so if desired\, consider bringing canned items to support the cause and get entered into prize drawings. Also\, for all of next week\, McDonald&rsquo\;s is donating 50 cents from every transaction at one of their new kiosks to their neighbors &ndash\; the YMCA\, so this is the time to indulge in your favorites guilt free. </span>
LOCATION:Hoquiam McDonald's 2501 Simpson Ave. Hoquiam\, WA
UID:e.26.11962
SEQUENCE:3
DTSTAMP:20260424T163640Z
URL:https://chamber.graysharbor.org/events/details/hoquiam-mcdonald-s-ribbon-cutting-11962
END:VEVENT

END:VCALENDAR
