BEGIN:VCALENDAR
VERSION:2.0
PRODID:-//ChamberMaster//Event Calendar 2.0//EN
METHOD:PUBLISH
X-PUBLISHED-TTL:P3D
REFRESH-INTERVAL:P3D
CALSCALE:GREGORIAN
BEGIN:VEVENT
DTSTART:20180415T020000Z
DTEND:20180415T050000Z
X-MICROSOFT-CDO-ALLDAYEVENT:FALSE
SUMMARY:Hoquiam's Heyday
DESCRIPTION:April 14 @ 7 PM\n\nTickets are $10\n\nTickets are available at City Drug\, Crown Drug\, Harbor Drug\, online and at the door 30 minutes prior to the show.\n\n\n\nAs part of the theatre's 90th anniversary celebration\, the 7th Street Theatre is partnering with the Polson Museum to present a narrated slideshow about what life was like in the late 1920s and early 1930s\, showing what a booming area the Harbor was during that time. Photos from the Polson Museum collection\, Jones Photo Historical collection\, and Washington State Archives will be shown on our big screen. Fun and interesting trivia\, news\, statistics and facts gathered from local newspapers and other resources will also be part of the evening's event. Following the presentation\, there will be guided tours. Proceeds and donations will help fund the back wall and roof repair project.
X-ALT-DESC;FMTTYPE=text/html:<span style="color: rgb(75\, 79\, 86)\; font-family: Helvetica\, Arial\, sans-serif\; font-size: 14px\; background-color: rgb(255\, 255\, 255)\;">April 14 @ 7 PM</span><br style="color: rgb(75\, 79\, 86)\; font-family: Helvetica\, Arial\, sans-serif\; font-size: 14px\; background-color: rgb(255\, 255\, 255)\;" />\n<span style="color: rgb(75\, 79\, 86)\; font-family: Helvetica\, Arial\, sans-serif\; font-size: 14px\; background-color: rgb(255\, 255\, 255)\;">Tickets are $10</span><br style="color: rgb(75\, 79\, 86)\; font-family: Helvetica\, Arial\, sans-serif\; font-size: 14px\; background-color: rgb(255\, 255\, 255)\;" />\n<span style="color: rgb(75\, 79\, 86)\; font-family: Helvetica\, Arial\, sans-serif\; font-size: 14px\; background-color: rgb(255\, 255\, 255)\;">Tickets are available at City Drug\, Crown Drug\, Harbor Drug\, online and at the door 30 minutes prior to the show.</span><br style="color: rgb(75\, 79\, 86)\; font-family: Helvetica\, Arial\, sans-serif\; font-size: 14px\; background-color: rgb(255\, 255\, 255)\;" />\n<br style="color: rgb(75\, 79\, 86)\; font-family: Helvetica\, Arial\, sans-serif\; font-size: 14px\; background-color: rgb(255\, 255\, 255)\;" />\n<span style="color: rgb(75\, 79\, 86)\; font-family: Helvetica\, Arial\, sans-serif\; font-size: 14px\; background-color: rgb(255\, 255\, 255)\;">As part of the theatre&rsquo\;s 90th anniversary celebration\, the 7th Street Theatre is partnering with the Polson Museum to present a narrated slideshow about what life was like in the late 1920s and early 1930s\, showing what a booming area the Harbor was during that time. Photos from the Polson Museum collection\, Jones Photo Historical collection\, and Washington State Archives will be shown on our big screen. Fun and interesting trivia\, news\, statistics and facts gathered from local newspapers and other resources will also be part of the evening&rsquo\;s event. Following the presentation\, there will be guided tours. Proceeds and donations will help fund the back wall and roof repair project.</span>
LOCATION:7th Street Theatre
UID:e.26.10566
SEQUENCE:3
DTSTAMP:20260425T113537Z
URL:https://chamber.graysharbor.org/events/details/hoquiam-s-heyday-10566
END:VEVENT

END:VCALENDAR
