BEGIN:VCALENDAR
VERSION:2.0
PRODID:-//ChamberMaster//Event Calendar 2.0//EN
METHOD:PUBLISH
X-PUBLISHED-TTL:P3D
REFRESH-INTERVAL:P3D
CALSCALE:GREGORIAN
BEGIN:VEVENT
DTSTART:20200411T051500Z
DTEND:20200411T061500Z
X-MICROSOFT-CDO-ALLDAYEVENT:FALSE
SUMMARY:HoquIAM School District Parade
DESCRIPTION:District staff will leave Central Elementary at 10:15am to parade around town (in vehicles). We want to remind our student how important they are and how much we all miss them! \n\n\n\nPlease step outside (remember social distancing) and wave to us!  We love Hoquiam and our students!
X-ALT-DESC;FMTTYPE=text/html:<span style="font-family: arial\; caret-color: rgb(29\, 33\, 41)\; color: rgb(29\, 33\, 41)\; font-size: 14px\; white-space: pre-wrap\;">District staff will leave Central Elementary at 10:15am to parade around town (in vehicles). </span><span style="font-family: arial\; caret-color: rgb(29\, 33\, 41)\; color: rgb(29\, 33\, 41)\; font-size: 14px\; white-space: pre-wrap\;">We want to remind our student how important they are and how much we all miss them! </span><br style="caret-color: rgb(29\, 33\, 41)\; color: rgb(29\, 33\, 41)\; font-family: system-ui\, -apple-system\, BlinkMacSystemFont\, &quot\;.SFNSText-Regular&quot\;\, sans-serif\; font-size: 14px\; white-space: pre-wrap\;" />\n<br style="caret-color: rgb(29\, 33\, 41)\; color: rgb(29\, 33\, 41)\; font-family: system-ui\, -apple-system\, BlinkMacSystemFont\, &quot\;.SFNSText-Regular&quot\;\, sans-serif\; font-size: 14px\; white-space: pre-wrap\;" />\n<span style="caret-color: rgb(29\, 33\, 41)\; color: rgb(29\, 33\, 41)\; font-size: 14px\; white-space: pre-wrap\;"><font face="arial">Please step outside (remember social distancing) and wave to us! </font><font face="system-ui\, -apple-system\, BlinkMacSystemFont\, .SFNSText-Regular\, sans-serif"> </font></span><span style="font-family: arial\; caret-color: rgb(29\, 33\, 41)\; color: rgb(29\, 33\, 41)\; font-size: 14px\; white-space: pre-wrap\;">We love Hoquiam and our students! </span>
LOCATION:Hoquiam\, WA
UID:e.26.12463
SEQUENCE:3
DTSTAMP:20260424T073909Z
URL:https://chamber.graysharbor.org/events/details/hoquiam-school-district-parade-12463
END:VEVENT

END:VCALENDAR
