BEGIN:VCALENDAR
VERSION:2.0
PRODID:-//ChamberMaster//Event Calendar 2.0//EN
METHOD:PUBLISH
X-PUBLISHED-TTL:P3D
REFRESH-INTERVAL:P3D
CALSCALE:GREGORIAN
BEGIN:VEVENT
DTSTART:20170812T010000Z
DTEND:20170812T050000Z
X-MICROSOFT-CDO-ALLDAYEVENT:FALSE
SUMMARY:HOT AUGUST NIGHTS
DESCRIPTION:Hot August Nights Music and Comedy Show. 6pm to 10pm Grayland Community Hall Fundraiser for new Electrical System. Tickets $12 adults\, $6 kids under 12. Music\, Comedy\, Chili/Nacho Bar\, No host beer and wine bar. Raffles.
X-ALT-DESC;FMTTYPE=text/html:Hot August Nights Music and Comedy Show. 6pm to 10pm Grayland Community Hall Fundraiser for new Electrical System. Tickets $12 adults\, $6 kids under 12. Music\, Comedy\, Chili/Nacho Bar\, No host beer and wine bar. Raffles.
LOCATION:Grayland Community Hall 2071 Cranberry Rd Grayland\, Wa 98547
UID:e.26.8046
SEQUENCE:3
DTSTAMP:20260426T002855Z
URL:https://chamber.graysharbor.org/events/details/hot-august-nights-8046
END:VEVENT

END:VCALENDAR
