BEGIN:VCALENDAR
VERSION:2.0
PRODID:-//ChamberMaster//Event Calendar 2.0//EN
METHOD:PUBLISH
X-PUBLISHED-TTL:P3D
REFRESH-INTERVAL:P3D
CALSCALE:GREGORIAN
BEGIN:VEVENT
DTSTART:20191206T013000Z
DTEND:20191206T033000Z
X-MICROSOFT-CDO-ALLDAYEVENT:FALSE
SUMMARY:HYPE | First Thursday
DESCRIPTION:Have some holiday fun with HYPE at Mount Olympus Brewing Company in downtown Aberdeen. This event will include opportunities to network and win prizes from local businesses. Please join us!
X-ALT-DESC;FMTTYPE=text/html:<span style="caret-color: rgb(29\, 33\, 41)\; color: rgb(29\, 33\, 41)\; font-family: system-ui\, -apple-system\, BlinkMacSystemFont\, &quot\;.SFNSText-Regular&quot\;\, sans-serif\; font-size: 14px\; white-space: pre-wrap\;">Have some holiday fun with HYPE at Mount Olympus Brewing Company in downtown Aberdeen. This event will include opportunities to network and win prizes from local businesses. Please join us!</span>
LOCATION:pin Mount Olympus Brewing Company 105 W HERON ST\, Aberdeen\, Washington 98520
UID:e.26.12380
SEQUENCE:3
DTSTAMP:20260424T041749Z
URL:https://chamber.graysharbor.org/events/details/hype-first-thursday-12380
END:VEVENT

END:VCALENDAR
